BEGIN:VCALENDAR
VERSION:2.0
PRODID:-//ChamberMaster//Event Calendar 2.0//EN
METHOD:PUBLISH
X-PUBLISHED-TTL:P3D
REFRESH-INTERVAL:P3D
CALSCALE:GREGORIAN
BEGIN:VEVENT
DTSTART:20211015T120000Z
DTEND:20211015T190000Z
X-MICROSOFT-CDO-ALLDAYEVENT:FALSE
SUMMARY:2021 Leadership Beaver County Session 2
DESCRIPTION:Session 2 | Social Infrastructure\n\n\n\nFor more information about Leadership Beaver County\, please contact Michelle Musselman at mmusselman@bcchamber.com or call 724-906-4286. \n\n\n\n*Leadership Beaver County Class 2021-2022 is full for this current year.*\n\n\n\nFor more information\, visit https://www.beavercountychamber.com/leadership-beaver-county.
X-ALT-DESC;FMTTYPE=text/html:<span style="color: rgb(51\, 51\, 51)\; font-family: &quot\;Fira Sans&quot\;\, sans-serif\; font-size: 16px\; background-color: rgb(255\, 255\, 255)\;">Session 2 | Social Infrastructure</span><br />\n<br />\n<span style="color: rgb(51\, 51\, 51)\; background-color: rgb(255\, 255\, 255)\; box-sizing: border-box\; outline: 0px\; font-family: &quot\;Fira Sans&quot\;\, sans-serif\; font-size: 16px\;">For more information about Leadership Beaver County\, please contact Michelle Musselman at mmusselman@bcchamber.com or call 724-906-4286.&nbsp\;</span><br style="color: rgb(51\, 51\, 51)\; background-color: rgb(255\, 255\, 255)\; box-sizing: border-box\; font-family: &quot\;Fira Sans&quot\;\, sans-serif\; font-size: 16px\;" />\n<br style="color: rgb(51\, 51\, 51)\; background-color: rgb(255\, 255\, 255)\; box-sizing: border-box\; font-family: &quot\;Fira Sans&quot\;\, sans-serif\; font-size: 16px\;" />\n<span style="color: rgb(51\, 51\, 51)\; background-color: rgb(255\, 255\, 255)\; box-sizing: border-box\; font-family: &quot\;Fira Sans&quot\;\, sans-serif\; font-size: 16px\; font-weight: bolder\;">*Leadership Beaver County Class 2021-2022 is full for this current year.*</span><br style="color: rgb(51\, 51\, 51)\; background-color: rgb(255\, 255\, 255)\; box-sizing: border-box\; font-family: &quot\;Fira Sans&quot\;\, sans-serif\; font-size: 16px\;" />\n<br style="color: rgb(51\, 51\, 51)\; background-color: rgb(255\, 255\, 255)\; box-sizing: border-box\; font-family: &quot\;Fira Sans&quot\;\, sans-serif\; font-size: 16px\;" />\n<span style="color: rgb(51\, 51\, 51)\; background-color: rgb(255\, 255\, 255)\; box-sizing: border-box\; font-family: &quot\;Fira Sans&quot\;\, sans-serif\; font-size: 16px\;">For more information\, visit&nbsp\;</span><a href="https://www.beavercountychamber.com/leadership-beaver-county" style="color: rgb(0\, 73\, 144)\; background-color: rgb(255\, 255\, 255)\; box-sizing: border-box\; text-decoration-line: none\; overflow-wrap: break-word\; font-family: &quot\;Fira Sans&quot\;\, sans-serif\; font-size: 16px\;" target="_blank">https://www.beavercountychamber.com/leadership-beaver-county</a><span style="color: rgb(51\, 51\, 51)\; background-color: rgb(255\, 255\, 255)\; box-sizing: border-box\; font-family: &quot\;Fira Sans&quot\;\, sans-serif\; font-size: 16px\;">.</span>
LOCATION:
UID:e.3407.934
SEQUENCE:3
DTSTAMP:20260423T140602Z
URL:https://www.beavercountychamber.com/events/details/2021-leadership-beaver-county-session-2-934
END:VEVENT

END:VCALENDAR
