BEGIN:VCALENDAR
VERSION:2.0
PRODID:-//ChamberMaster//Event Calendar 2.0//EN
METHOD:PUBLISH
X-PUBLISHED-TTL:P3D
REFRESH-INTERVAL:P3D
CALSCALE:GREGORIAN
BEGIN:VEVENT
DTSTART:20251210T180000Z
DTEND:20251210T190000Z
X-MICROSOFT-CDO-ALLDAYEVENT:FALSE
SUMMARY:Veterans Town Hall
DESCRIPTION:Join us for our next Veterans Town Hall on Wednesday\, December 10\, at 1 p.m. Get important VA updates and hear from VAPHS leadership and representatives from VBA's Pittsburgh Regional Office and the National Cemetery of the Alleghenies. Attend in person\, via Webex or by phone:\n\n1. Join in person in the Learning Exchange in bldg. 71 on the H.J. Heinz III Campus\, 1010 Delafield Road\, Pittsburgh\, PA 15215.\n\n2. Join online via Webex o Webinar number 2826 431 3814 o Webinar password Zd3VT32xuK@ (93388329 when dialing from a phone or video system)\n\n3. Join via phone: Call 1-404-397-1596 and enter access code 282 643 13814. o Phone participants must press *3 to raise their hand to ask a question.
X-ALT-DESC;FMTTYPE=text/html:Join us for our next Veterans Town Hall on Wednesday\, December 10\, at 1 p.m. Get important VA updates and hear from VAPHS leadership and representatives from VBA&rsquo\;s Pittsburgh Regional Office and the National Cemetery of the Alleghenies. Attend in person\, via Webex or by phone:<br />\n1. Join in person in the Learning Exchange in bldg. 71 on the H.J. Heinz III Campus\, 1010 Delafield Road\, Pittsburgh\, PA 15215.<br />\n2. Join online via Webex o Webinar number <a href="tel:2826 431 3814">2826 431 3814</a> o Webinar password Zd3VT32xuK@ (93388329 when dialing from a phone or video system)<br />\n3. Join via phone: Call <a href="tel:1-404-397-1596">1-404-397-1596</a> and enter access code 282 <a href="tel:643 13814">643 13814</a>. o Phone participants must press *3 to raise their hand to ask a question.
LOCATION:VA Pittsburgh Healthcare System 1010 Delafield Rd. Pittsburgh\, PA 15215
UID:e.3407.1985
SEQUENCE:3
DTSTAMP:20260420T093336Z
URL:https://www.beavercountychamber.com/events/details/veterans-town-hall-12-10-2025-1985
END:VEVENT

END:VCALENDAR
