BEGIN:VCALENDAR
VERSION:2.0
PRODID:-//ChamberMaster//Event Calendar 2.0//EN
METHOD:PUBLISH
X-PUBLISHED-TTL:P3D
REFRESH-INTERVAL:P3D
CALSCALE:GREGORIAN
BEGIN:VEVENT
DTSTART:20240306T150000Z
DTEND:20240306T160000Z
X-MICROSOFT-CDO-ALLDAYEVENT:FALSE
SUMMARY:Veterans Town Hall
DESCRIPTION:Veterans Town Hall\nWednesday\, March 6\, at 10 a.m.\nGet important VA updates and hear from VAPHS leadership and representatives from VBA?s Pittsburgh Regional Office and the National Cemetery of the Alleghenies. Our town hall is part of our ongoing effort to hear from you and use your feedback to improve VA care.\nAttend in person\, via Webex or by phone:\n1. Join in person on the University Drive campus\, building 29\, Learning Exchange\, Pittsburgh\, PA 15240.\n2. Join via Webex at https://bit.ly/49pF2Sq\n? Webinar number 2825 396 9182\n? Webinar password 3PAhfZuc*86\n3. Join via phone:\n? Call 1-404-397-1596 and enter access code 2825 396 9182.\n? Phone participants must press *3 to raise their hand to ask a question.
X-ALT-DESC;FMTTYPE=text/html:Veterans Town Hall\nWednesday\, March 6\, at 10 a.m.\nGet important VA updates and hear from VAPHS leadership and representatives from VBA?s Pittsburgh Regional Office and the National Cemetery of the Alleghenies. Our town hall is part of our ongoing effort to hear from you and use your feedback to improve VA care.\nAttend in person\, via Webex or by phone:\n1. Join in person on the University Drive campus\, building 29\, Learning Exchange\, Pittsburgh\, PA 15240.\n2. Join via Webex at https://bit.ly/49pF2Sq\n? Webinar number 2825 396 9182\n? Webinar password 3PAhfZuc*86\n3. Join via phone:\n? Call 1-404-397-1596 and enter access code 2825 396 9182.\n? Phone participants must press *3 to raise their hand to ask a question.
LOCATION:Pittsburgh VA Medical Center-University Drive Building 29\, Learning Exchange University Drive C Pittsburgh\, PA
UID:e.3407.1515
SEQUENCE:3
DTSTAMP:20260422T093639Z
URL:https://www.beavercountychamber.com/events/details/veterans-town-hall-03-06-2024-1515
END:VEVENT

END:VCALENDAR
