BEGIN:VCALENDAR
VERSION:2.0
PRODID:-//ChamberMaster//Event Calendar 2.0//EN
METHOD:PUBLISH
X-PUBLISHED-TTL:P3D
REFRESH-INTERVAL:P3D
CALSCALE:GREGORIAN
BEGIN:VEVENT
DTSTART:20251106T140000Z
DTEND:20251106T160000Z
X-MICROSOFT-CDO-ALLDAYEVENT:FALSE
SUMMARY:Veterans Breakfast
DESCRIPTION:Let us serve you!\n\nJoin us for our annual Veterans Breakfast honoring our hometown heroes on Thursday\, November 6\, at the CCBC Dome. \n\nRSVP by October 30th: 724-480-3554 or Marketing@ccbc.edu.
X-ALT-DESC;FMTTYPE=text/html:<p>Let us serve you!</p>\n\n<p>Join us for our annual Veterans Breakfast honoring our hometown heroes on Thursday\, November 6\, at the CCBC Dome.&nbsp\;</p>\n\n<p>RSVP by October 30th: 724-480-3554 or Marketing@ccbc.edu.</p>\n
LOCATION:Community College of Beaver County (CCBC) Dome
UID:e.3407.1949
SEQUENCE:3
DTSTAMP:20260420T155637Z
URL:https://www.beavercountychamber.com/events/details/veterans-breakfast-1949
END:VEVENT

END:VCALENDAR
