BEGIN:VCALENDAR
VERSION:2.0
PRODID:-//ChamberMaster//Event Calendar 2.0//EN
METHOD:PUBLISH
X-PUBLISHED-TTL:P3D
REFRESH-INTERVAL:P3D
CALSCALE:GREGORIAN
BEGIN:VEVENT
DTSTART:20230616T233000Z
DTEND:20230625T200000Z
X-MICROSOFT-CDO-ALLDAYEVENT:FALSE
SUMMARY:The Play That Goes Wrong
DESCRIPTION:Follow the hysterical antics of the Cornley Polytechnic Drama Society\, who are trying their very best to stage a production of a 1920s murder mystery when everything that could possibly go wrong does just that. This gut-busting show is sure to have theater lovers and first-time patrons laughing from beginning to end!
X-ALT-DESC;FMTTYPE=text/html:Follow the hysterical antics of the Cornley Polytechnic Drama Society\, who are trying their very best to stage a production of a 1920s murder mystery when everything that could possibly go wrong does just that. This gut-busting show is sure to have theater lovers and first-time patrons laughing from beginning to end!
LOCATION:Lincoln Park Performing Arts Center 1 Lincoln Park Midland\, PA 15059
UID:e.3407.1345
SEQUENCE:3
DTSTAMP:20260424T140257Z
URL:https://www.beavercountychamber.com/events/details/the-play-that-goes-wrong-1345
END:VEVENT

END:VCALENDAR
