BEGIN:VCALENDAR
VERSION:2.0
PRODID:-//ChamberMaster//Event Calendar 2.0//EN
METHOD:PUBLISH
X-PUBLISHED-TTL:P3D
REFRESH-INTERVAL:P3D
CALSCALE:GREGORIAN
BEGIN:VEVENT
DTSTART:20241222T003000Z
DTEND:20241222T023000Z
X-MICROSOFT-CDO-ALLDAYEVENT:FALSE
SUMMARY:The Nutcracker
DESCRIPTION:Celebrate the holiday season at Lincoln Park Performing Arts Center with our longest-running tradition   The Nutcracker! Bring your family to enjoy Tchaikovsky's whimsical masterpiece as never before in our MainStage Theater. And this season\, for the first time ever\, The Nutcracker will be presented over two weekends during the month of December!
X-ALT-DESC;FMTTYPE=text/html:Celebrate the holiday season at Lincoln Park Performing Arts Center with our longest-running tradition &ndash\; The Nutcracker! Bring your family to enjoy Tchaikovsky&rsquo\;s whimsical masterpiece as never before in our MainStage Theater. And this season\, for the first time ever\, The Nutcracker will be presented over two weekends during the month of December!
LOCATION:Lincoln Park Performing Arts Center 1 Lincoln Park Midland\, PA 15059
UID:e.3407.1841
SEQUENCE:3
DTSTAMP:20260421T170329Z
URL:https://www.beavercountychamber.com/events/details/the-nutcracker-12-21-2024-1841
END:VEVENT

END:VCALENDAR
