BEGIN:VCALENDAR
VERSION:2.0
PRODID:-//ChamberMaster//Event Calendar 2.0//EN
METHOD:PUBLISH
X-PUBLISHED-TTL:P3D
REFRESH-INTERVAL:P3D
CALSCALE:GREGORIAN
BEGIN:VEVENT
DTSTART:20231202T003000Z
DTEND:20231217T210000Z
X-MICROSOFT-CDO-ALLDAYEVENT:FALSE
SUMMARY:The Game's Afoot: Holmes for the Holidays
DESCRIPTION:Actor William Gillette\, adored for his leading role in the play Sherlock Holmes\, has invited his fellow cast members to his castle for a weekend of Christmas revelry. But when one of the guests is stabbed to death\, the festivities quickly take a dangerous turn. It is up to Gillette himself\, under the persona of Holmes\, to track down the killer before it's too late. The danger and hilarity are non-stop in this glittering whodunit set during the Christmas holidays!
X-ALT-DESC;FMTTYPE=text/html:Actor William Gillette\, adored for his leading role in the play Sherlock Holmes\, has invited his fellow cast members to his castle for a weekend of Christmas revelry. But when one of the guests is stabbed to death\, the festivities quickly take a dangerous turn. It is up to Gillette himself\, under the persona of Holmes\, to track down the killer before it&rsquo\;s too late. The danger and hilarity are non-stop in this glittering whodunit set during the Christmas holidays!
LOCATION:Lincoln Park Performing Arts Center 1 Lincoln Park Midland\, PA 15059
UID:e.3407.1405
SEQUENCE:3
DTSTAMP:20260422T154814Z
URL:https://www.beavercountychamber.com/events/details/the-game-s-afoot-holmes-for-the-holidays-1405
END:VEVENT

END:VCALENDAR
