BEGIN:VCALENDAR
VERSION:2.0
PRODID:-//ChamberMaster//Event Calendar 2.0//EN
METHOD:PUBLISH
X-PUBLISHED-TTL:P3D
REFRESH-INTERVAL:P3D
CALSCALE:GREGORIAN
BEGIN:VEVENT
DTSTART:20221206T210000Z
DTEND:20221207T000000Z
X-MICROSOFT-CDO-ALLDAYEVENT:FALSE
SUMMARY:Stray Cat Studio: Open House
DESCRIPTION:If you love a good story that begins with\, "In March 2020 the momentous ground-breaking for the Portobello Building Cultural Life & Arts Center in Beaver Falls was thwarted by none other than a global pandemic . . . " then you will NOT want to miss the NEXT chapter in the story! Join us on Tuesday\, December 6\, from 4-7 PM at the new (to us) "Baby Bello"\, which will continue the original vision of The Portobello Cultural Life & Art Center through smaller-scale community programming opportunities such as lectures\, meetings\, music & more. PLUS\, the building includes the new digs for our beloved Stray Cat Studio! Our "before" Open House\, which will give guests the first glimpse of our new space still under renovation\, will include: --seeing a 3D layout of the projected finished build-out --hearing directly from Stray Cat Studio staff members about the new production\, member\, classroom\, and retail space --learning about opportunities to rent our community space for intimate cultural\, educational\, and civic gatherings --entering our gift drawing (with cash donation) --purchasing "stray" (seconds) pottery and T-shirts The Stray Cat team will be on-site to welcome you and answer questions! (Please dress warmly . . . as we're still under construction\, it could be a tad chilly!)
X-ALT-DESC;FMTTYPE=text/html:If you love a good story that begins with\, &quot\;In March 2020 the momentous ground-breaking for the Portobello Building Cultural Life &amp\; Arts Center in Beaver Falls was thwarted by none other than a global pandemic . . . &quot\; then you will NOT want to miss the NEXT chapter in the story! Join us on Tuesday\, December 6\, from 4-7 PM at the new (to us) &quot\;Baby Bello&quot\;\, which will continue the original vision of The Portobello Cultural Life &amp\; Art Center through smaller-scale community programming opportunities such as lectures\, meetings\, music &amp\; more. PLUS\, the building includes the new digs for our beloved Stray Cat Studio! Our &quot\;before&quot\; Open House\, which will give guests the first glimpse of our new space still under renovation\, will include: --seeing a 3D layout of the projected finished build-out --hearing directly from Stray Cat Studio staff members about the new production\, member\, classroom\, and retail space --learning about opportunities to rent our community space for intimate cultural\, educational\, and civic gatherings --entering our gift drawing (with cash donation) --purchasing &quot\;stray&quot\; (seconds) pottery and T-shirts The Stray Cat team will be on-site to welcome you and answer questions! (Please dress warmly . . . as we&#39\;re still under construction\, it could be a tad chilly!)
LOCATION:815 22ND ST Beaver Falls (former PNC Building)
UID:e.3407.1265
SEQUENCE:3
DTSTAMP:20260421T194502Z
URL:https://www.beavercountychamber.com/events/details/stray-cat-studio-open-house-1265
END:VEVENT

END:VCALENDAR
