BEGIN:VCALENDAR
VERSION:2.0
PRODID:-//ChamberMaster//Event Calendar 2.0//EN
METHOD:PUBLISH
X-PUBLISHED-TTL:P3D
REFRESH-INTERVAL:P3D
CALSCALE:GREGORIAN
BEGIN:VEVENT
DTSTART:20240305T210000Z
DTEND:20240305T230000Z
X-MICROSOFT-CDO-ALLDAYEVENT:FALSE
SUMMARY:So\, You Want to Start a Small Business
DESCRIPTION:This is an in-person event\n\nAre you dreaming of becoming your own boss?\n\nThis special event will showcase how the Duquesne University Small Business Development Center (SBDC) and the Small Business Administration (SBA) Western PA District Office assist entrepreneurs helping turn ideas into businesses.\n\nMichelle Fuscaldo\, Franchise Owner of two Meineke Car Centers and SBDC client entrepreneur\, will be sharing her story with attendees and available for questions and business advice.\n\nAlso\, microlenders will be on hand to meet attendees in-person.  SBA Lender Relations Specialist Lynn Ann Vozniak will walk participants step-by-step through the process of communicating funding needs and introduce area Microloan lenders. ?SBA Microloans are a great source for small-dollar financing? said SBA Western Pa District Director Dr. Kelly Hunt. ?Microlenders provide up to $50\,000 in capital and even more free assistance to borrowers. That really gives people the chance to open that small business and succeed.?\n\nRegister today!\n\nSpeakers:\nJanet Heyl\, Public Affairs Specialist - U.S. Small Business Administration\nRichard A. Longo\, Director - Duquesne University Small Business Development Center\nMichelle Fuscaldo - Fuscaldo Enterprises\, LLC - Franchise Owner of two Meineke Car Care Centers\nLynn Ann Vozniak\, Lender Relations Specialist - U.S. Small Business Administration\nMicorlenders in attendance: Washington County Council on Economic Development\, Neighborhood Community Development Fund\, Pursuit\, Bridgeway Capital
X-ALT-DESC;FMTTYPE=text/html:This is an in-person event\n\nAre you dreaming of becoming your own boss?\n\nThis special event will showcase how the Duquesne University Small Business Development Center (SBDC) and the Small Business Administration (SBA) Western PA District Office assist entrepreneurs helping turn ideas into businesses.\n\nMichelle Fuscaldo\, Franchise Owner of two Meineke Car Centers and SBDC client entrepreneur\, will be sharing her story with attendees and available for questions and business advice.\n\nAlso\, microlenders will be on hand to meet attendees in-person.  SBA Lender Relations Specialist Lynn Ann Vozniak will walk participants step-by-step through the process of communicating funding needs and introduce area Microloan lenders. ?SBA Microloans are a great source for small-dollar financing? said SBA Western Pa District Director Dr. Kelly Hunt. ?Microlenders provide up to $50\,000 in capital and even more free assistance to borrowers. That really gives people the chance to open that small business and succeed.?\n\nRegister today!\n\nSpeakers:\nJanet Heyl\, Public Affairs Specialist - U.S. Small Business Administration\nRichard A. Longo\, Director - Duquesne University Small Business Development Center\nMichelle Fuscaldo - Fuscaldo Enterprises\, LLC - Franchise Owner of two Meineke Car Care Centers\nLynn Ann Vozniak\, Lender Relations Specialist - U.S. Small Business Administration\nMicorlenders in attendance: Washington County Council on Economic Development\, Neighborhood Community Development Fund\, Pursuit\, Bridgeway Capital
LOCATION:Duquesne University Small Business Development Center 600 Forbes Ave Rockwell Hall Room 505 Pittsburgh\, PA 15282-0103
UID:e.3407.1516
SEQUENCE:3
DTSTAMP:20260422T093817Z
URL:https://www.beavercountychamber.com/events/details/so-you-want-to-start-a-small-business-1516
END:VEVENT

END:VCALENDAR
