BEGIN:VCALENDAR
VERSION:2.0
PRODID:-//ChamberMaster//Event Calendar 2.0//EN
METHOD:PUBLISH
X-PUBLISHED-TTL:P3D
REFRESH-INTERVAL:P3D
CALSCALE:GREGORIAN
BEGIN:VEVENT
DTSTART:20250116T223000Z
DTEND:20250117T003000Z
X-MICROSOFT-CDO-ALLDAYEVENT:FALSE
SUMMARY:Snacks & Apps Recipe Swap
DESCRIPTION:Join us for an evening of delicious bites\, great company\, giveaways and wellness screenings! Join us at our Snacks & Apps Recipe Swap hosted by Dr. Beth Aiken at Riverside Family Chiropractic (78 Tuscarawas Road\, Beaver) on January 16th\, 5:30 - 7:30 pm. \n\nShare a recipe of your favorite appetizer or snack\, bring a sample to share and take home copies of the recipes enjoyed! It's the perfect chance to relax\, mingle and discover how we can help you feel your best.\n\nSpots are limited\, so RSVP by 1/9 to secure your place!\n\n724-709-7793 or drbethaiken@gmail.com
X-ALT-DESC;FMTTYPE=text/html:<p><span style="background-color:transparent\; color:rgb(0\, 0\, 0)\; font-family:arial\,sans-serif\; font-size:12px">Join us for an evening of delicious bites\, great company\, giveaways and wellness screenings! Join us at our </span><strong style="font-size:12px">Snacks &amp\; Apps Recipe Swap</strong><span style="background-color:transparent\; color:rgb(0\, 0\, 0)\; font-family:arial\,sans-serif\; font-size:12px"> hosted by Dr. Beth Aiken at Riverside Family Chiropractic (78 Tuscarawas Road\, Beaver) on January 16th\, 5:30 - 7:30 pm.&nbsp\;</span><br />\n<span style="background-color:transparent\; color:rgb(0\, 0\, 0)\; font-family:arial\,sans-serif\; font-size:12px">Share a recipe of your favorite appetizer or snack\, bring a sample to share and take home copies of the recipes enjoyed! It&rsquo\;s the perfect chance to relax\, mingle and discover how we can help you feel your best.</span><br />\n<span style="background-color:transparent\; color:rgb(0\, 0\, 0)\; font-family:arial\,sans-serif\; font-size:12px">Spots are limited\, so RSVP by 1/9 to secure your place!</span><br />\n<span style="background-color:transparent\; color:rgb(0\, 0\, 0)\; font-family:arial\,sans-serif\; font-size:12px">724-709-7793 or drbethaiken@gmail.com</span></p>\n\n<div>&nbsp\;</div>\n
LOCATION:Riverside Family Chiropractic 78 Tuscarawas Road Beaver\, PA 15009
UID:e.3407.1846
SEQUENCE:3
DTSTAMP:20260421T094159Z
URL:https://www.beavercountychamber.com/events/details/snacks-apps-recipe-swap-1846
END:VEVENT

END:VCALENDAR
