BEGIN:VCALENDAR
VERSION:2.0
PRODID:-//ChamberMaster//Event Calendar 2.0//EN
METHOD:PUBLISH
X-PUBLISHED-TTL:P3D
REFRESH-INTERVAL:P3D
CALSCALE:GREGORIAN
BEGIN:VEVENT
DTSTART:20240214T140000Z
DTEND:20240214T170000Z
X-MICROSOFT-CDO-ALLDAYEVENT:FALSE
SUMMARY:Smart Start small business series
DESCRIPTION:Job Training's free Smart Start small business program will provide you with 30 hours of instruction through a series of 10 three-hour workshops\, held on Mondays & Wednesday from 9AM to 12PM.  Key topics include evaluating the feasibility of a small business idea\, business structuring and financing options\, developing a business plan\, perfecting your elevator pitch\, marketing & social media\, and more.   \n\nThis 10-workshop series is complemented with presentations from local business professionals and community partners from marketing/social media companies\, law and accounting offices\, and financial institutions. The Smart Start small business series is brought to you by the Community Development Program of Beaver County through a Federal Community Development Block Grant.\n\n\n\nPlease reach out  for registration details.  Advanced registration is required.
X-ALT-DESC;FMTTYPE=text/html:<p><span style="font-size:12px"><span style="font-family:arial\,helvetica\,sans-serif">Job Training&#39\;s free Smart Start small business program will provide you with 30 hours of instruction through a series of 10 three-hour workshops\, held on Mondays &amp\; Wednesday from 9AM to 12PM.&nbsp\; Key topics include evaluating the feasibility of a small business idea\, business structuring and financing options\, developing a business plan\, perfecting your elevator pitch\, marketing &amp\; social media\, and more.&nbsp\;&nbsp\;&nbsp\;</span></span></p>\n\n<p><span style="font-size:12px"><span style="font-family:arial\,helvetica\,sans-serif">This 10-workshop series is complemented with presentations from local business professionals and community partners from marketing/social media companies\, law and accounting offices\, and financial institutions.&nbsp\;The Smart Start small business series is brought to you by the Community Development Program of Beaver County through a Federal Community Development Block Grant.<br />\n<br />\nPlease reach out&nbsp\; for registration details.&nbsp\; Advanced registration is required.</span></span></p>\n
LOCATION:Beaver County Careerlink 285 Beaver Valley Mall Route 18 Monaca\, PA 15061
UID:e.3407.1468
SEQUENCE:3
DTSTAMP:20260422T110646Z
URL:https://www.beavercountychamber.com/events/details/smart-start-small-business-series-02-14-2024-1468
END:VEVENT

END:VCALENDAR
