BEGIN:VCALENDAR
VERSION:2.0
PRODID:-//ChamberMaster//Event Calendar 2.0//EN
METHOD:PUBLISH
X-PUBLISHED-TTL:P3D
REFRESH-INTERVAL:P3D
CALSCALE:GREGORIAN
BEGIN:VEVENT
DTSTART:20230626T130000Z
DTEND:20230626T160000Z
X-MICROSOFT-CDO-ALLDAYEVENT:FALSE
SUMMARY:Smart Start entrepreneur workshops
DESCRIPTION:Ten 3 hour workshops for Beaver County residents wanting to start their own business. *FREE* Monday and Wednesday mornings (9-12) from June 26-July 31. Call Lisa at 724-728-4860 x238.
X-ALT-DESC;FMTTYPE=text/html:Ten 3 hour workshops for Beaver County residents wanting to start their own business. *FREE* Monday and Wednesday mornings (9-12) from June 26-July 31. Call Lisa at 724-728-4860 x238.
LOCATION:CareerLink office - Beaver Valley Mall.
UID:e.3407.1355
SEQUENCE:3
DTSTAMP:20260423T202200Z
URL:https://www.beavercountychamber.com/events/details/smart-start-entrepreneur-workshops-1355
END:VEVENT

END:VCALENDAR
