BEGIN:VCALENDAR
VERSION:2.0
PRODID:-//ChamberMaster//Event Calendar 2.0//EN
METHOD:PUBLISH
X-PUBLISHED-TTL:P3D
REFRESH-INTERVAL:P3D
CALSCALE:GREGORIAN
BEGIN:VEVENT
DTSTART:20240615T150000Z
DTEND:20240616T030000Z
X-MICROSOFT-CDO-ALLDAYEVENT:FALSE
SUMMARY:Relay For Life of Beaver County
DESCRIPTION:Come celebrate Relay For Life of Beaver County in all of their fundraising efforts for the America Cancer Society! Food trucks\, bouncy house\, live music\, games\, and more!
X-ALT-DESC;FMTTYPE=text/html:Come celebrate Relay For Life of Beaver County in all of their fundraising efforts for the America Cancer Society! Food trucks\, bouncy house\, live music\, games\, and more!
LOCATION:Irvine Park\, Beaver\, PA
UID:e.3407.1512
SEQUENCE:3
DTSTAMP:20260422T042803Z
URL:https://www.beavercountychamber.com/events/details/relay-for-life-of-beaver-county-1512
END:VEVENT

END:VCALENDAR
