BEGIN:VCALENDAR
VERSION:2.0
PRODID:-//ChamberMaster//Event Calendar 2.0//EN
METHOD:PUBLISH
X-PUBLISHED-TTL:P3D
REFRESH-INTERVAL:P3D
CALSCALE:GREGORIAN
BEGIN:VEVENT
DTSTART:20260509T153000Z
DTEND:20260509T190000Z
X-MICROSOFT-CDO-ALLDAYEVENT:FALSE
SUMMARY:"Pretty in Pink" Mother's Day Tea
DESCRIPTION:Carnegie Free Library of Beaver Falls Presents: "Pretty in Pink" Mother's Day Tea Beaver Falls\, PA   The Carnegie Free Library of Beaver Falls warmly invites the community to celebrate Mother's Day in style at its upcoming "Pretty in Pink" Mother's Day Tea\, an elegant afternoon dedicated to honoring the women who inspire\, nurture\, and strengthen our lives. The event will take place on Saturday\, May 9 at 11:30 AM at the Carnegie Free Library Event Center\, located at 1301 Seventh Avenue in Beaver Falls. Guests will enjoy a beautifully curated tea service catered by Penn Bistro\, featuring a delightful assortment of sweet and savory selections\, along with an inviting atmosphere filled with soft music\, thoughtfully arranged d cor\, and a spirit of celebration. The afternoon will also include beautifully curated raffle baskets and a heartfelt program recognizing mothers\, grandmothers\, and the many women who make a lasting impact in our community. "This event is a wonderful opportunity to come together and celebrate the incredible women in our lives\," said event organizers. "We are excited to offer an experience that is both elegant and meaningful for our guests." Tickets are $35 per person\, and seating is limited. Guests are encouraged to reserve early to ensure availability. All proceeds will support the continued preservation and future enhancements of the historic Carnegie Free Library of Beaver Falls. For General Admission tickets\, Raffle Tickets and Ticket Bundles\, and additional information\, please visit: cflbf.org/public-events
X-ALT-DESC;FMTTYPE=text/html:Carnegie Free Library of Beaver Falls Presents: &ldquo\;Pretty in Pink&rdquo\; Mother&rsquo\;s Day Tea Beaver Falls\, PA &mdash\; The Carnegie Free Library of Beaver Falls warmly invites the community to celebrate Mother&rsquo\;s Day in style at its upcoming &ldquo\;Pretty in Pink&rdquo\; Mother&rsquo\;s Day Tea\, an elegant afternoon dedicated to honoring the women who inspire\, nurture\, and strengthen our lives. The event will take place on Saturday\, May 9 at 11:30 AM at the Carnegie Free Library Event Center\, located at 1301 Seventh Avenue in Beaver Falls. Guests will enjoy a beautifully curated tea service catered by Penn Bistro\, featuring a delightful assortment of sweet and savory selections\, along with an inviting atmosphere filled with soft music\, thoughtfully arranged d&eacute\;cor\, and a spirit of celebration. The afternoon will also include beautifully curated raffle baskets and a heartfelt program recognizing mothers\, grandmothers\, and the many women who make a lasting impact in our community. &ldquo\;This event is a wonderful opportunity to come together and celebrate the incredible women in our lives\,&rdquo\; said event organizers. &ldquo\;We are excited to offer an experience that is both elegant and meaningful for our guests.&rdquo\; Tickets are $35 per person\, and seating is limited. Guests are encouraged to reserve early to ensure availability. All proceeds will support the continued preservation and future enhancements of the historic Carnegie Free Library of Beaver Falls. For General Admission tickets\, Raffle Tickets and Ticket Bundles\, and additional information\, please visit: cflbf.org/public-events
LOCATION:Carnegie Free Library of Beaver Falls 1301 7th Avenue Beaver Falls\, PA 15010
UID:e.3407.2027
SEQUENCE:3
DTSTAMP:20260423T195402Z
URL:https://www.beavercountychamber.com/events/details/pretty-in-pink-mother-s-day-tea-2027
END:VEVENT

END:VCALENDAR
