BEGIN:VCALENDAR
VERSION:2.0
PRODID:-//ChamberMaster//Event Calendar 2.0//EN
METHOD:PUBLISH
X-PUBLISHED-TTL:P3D
REFRESH-INTERVAL:P3D
CALSCALE:GREGORIAN
BEGIN:VEVENT
DTSTART:20260212T141500Z
DTEND:20260212T153000Z
X-MICROSOFT-CDO-ALLDAYEVENT:FALSE
SUMMARY:2026 Exclusive Briefing for Chamber Members: FY 2026-27 Budget Update
DESCRIPTION:Governor Josh Shapiro is scheduled to deliver his annual budget address on Tue.\, Feb 3 setting the stage for statewide policy and funding discussions. The address will outline priorities impacting education\, economic development\, workforce initiatives\, and other key areas for Pennsylvania employers.\n\nTo help Chamber members better understand what these priorities could mean locally\, the Beaver County Chamber of Commerce Government Affairs Committee is hosting an in-person Pennsylvania Budget Update on Thu.\, Feb. 12 with Laura Ainsman Sohinki from the Office of the Governor.
X-ALT-DESC;FMTTYPE=text/html:<div data-olk-copy-source="MessageBody" style="border: 0px\; font-variant-numeric: inherit\; font-variant-east-asian: inherit\; font-variant-alternates: inherit\; font-variant-position: inherit\; font-variant-emoji: inherit\; font-stretch: inherit\; font-size: 12pt\; line-height: inherit\; font-family: Aptos\, Arial\, Helvetica\, sans-serif\, serif\, EmojiFont\; font-optical-sizing: inherit\; font-size-adjust: inherit\; font-kerning: inherit\; font-feature-settings: inherit\; font-variation-settings: inherit\; font-language-override: inherit\; margin: 1em 0px\; padding: 0px\; vertical-align: baseline\; color: rgb(0\, 0\, 0)\;">Governor Josh Shapiro is scheduled to deliver his annual budget address on Tue.\, Feb 3 setting the stage for statewide policy and funding discussions.&nbsp\;<span style="caret-color: rgb(0\, 0\, 0)\; color: rgb(0\, 0\, 0)\; font-family: Aptos\, Arial\, Helvetica\, sans-serif\; font-size: 16px\;">The address will outline priorities impacting education\, economic development\, workforce initiatives\, and other key areas for Pennsylvania employers.</span></div>\n\n<p style="color: rgb(36\, 36\, 36)\; font-family: &quot\;Segoe UI&quot\;\, &quot\;Segoe UI Web (West European)&quot\;\, -apple-system\, BlinkMacSystemFont\, Roboto\, &quot\;Helvetica Neue&quot\;\, sans-serif\; font-size: 15px\;"><span style="border: 0px\; font-style: inherit\; font-variant: inherit\; font-weight: inherit\; font-stretch: inherit\; font-size: 12pt\; line-height: inherit\; font-family: Aptos\, Arial\, Helvetica\, sans-serif\, serif\, EmojiFont\; font-optical-sizing: inherit\; font-size-adjust: inherit\; font-kerning: inherit\; font-feature-settings: inherit\; font-variation-settings: inherit\; font-language-override: inherit\; margin: 0px\; padding: 0px\; vertical-align: baseline\; color: rgb(0\, 0\, 0)\;">To help Chamber members better understand what these priorities could mean locally\, the Beaver County Chamber of Commerce Government Affairs Committee is hosting an in-person&nbsp\;<b>Pennsylvania Budget Update</b>&nbsp\;on Thu.\, Feb. 12 with <strong>Laura Ainsman Sohinki </strong>from the Office of the Governor.</span></p>\n
LOCATION:1000 3rd Street\, Suite 4A (Lower-Level Conference Room) Beaver\, PA 15009
UID:e.3407.2012
SEQUENCE:3
DTSTAMP:20260421T083233Z
URL:https://www.beavercountychamber.com/events/details/pennsylvania-2026-27-budget-update-with-laura-ainsman-sohinki-2012
END:VEVENT

END:VCALENDAR
