BEGIN:VCALENDAR
VERSION:2.0
PRODID:-//ChamberMaster//Event Calendar 2.0//EN
METHOD:PUBLISH
X-PUBLISHED-TTL:P3D
REFRESH-INTERVAL:P3D
CALSCALE:GREGORIAN
BEGIN:VEVENT
DTSTART:20240909T120000Z
DTEND:20240909T200000Z
X-MICROSOFT-CDO-ALLDAYEVENT:FALSE
SUMMARY:Penn State Beaver Alumni Society Golf Outing
DESCRIPTION:The Penn State Beaver Alumni Society's annual golf outing to benefit Penn State Beaver students returns Sept. 9! The golf package is $175 per person or $600 for a team of four and includes golf cart\, greens fees\, breakfast\, on-course beverages\, snacks\, lunch\, after-game reception\, and dinner. Sponsorships at various levels are also available.
X-ALT-DESC;FMTTYPE=text/html:The Penn State Beaver Alumni Society&#39\;s annual golf outing to benefit Penn State Beaver students returns Sept. 9! The golf package is $175 per person or $600 for a team of four and includes golf cart\, greens fees\, breakfast\, on-course beverages\, snacks\, lunch\, after-game reception\, and dinner. Sponsorships at various levels are also available.
LOCATION:Seven Oaks Country Club\, 132 Lisbon Road\, Beaver\, PA
UID:e.3407.1799
SEQUENCE:3
DTSTAMP:20260422T000752Z
URL:https://www.beavercountychamber.com/events/details/penn-state-beaver-alumni-society-golf-outing-1799
END:VEVENT

END:VCALENDAR
