BEGIN:VCALENDAR
VERSION:2.0
PRODID:-//ChamberMaster//Event Calendar 2.0//EN
METHOD:PUBLISH
X-PUBLISHED-TTL:P3D
REFRESH-INTERVAL:P3D
CALSCALE:GREGORIAN
BEGIN:VEVENT
DTSTART:20220511T153000Z
DTEND:20220511T163000Z
X-MICROSOFT-CDO-ALLDAYEVENT:FALSE
SUMMARY:Lunch & Learn - Deb Herman
DESCRIPTION:Deb Herman with Deb Herman Marketing & Communications\n\n\n\nCreating and executing digital marketing assets is one of the most daunting challenges faced by small businesses and entrepreneurs. Deb will talk about these challenges\, providing guidance on making your digital marketing efforts successful.
X-ALT-DESC;FMTTYPE=text/html:<span style="font-size:14px\;"><span style="font-family:arial\;">Deb Herman with Deb Herman Marketing &amp\; Communications<br />\n<br />\n<span style="color: rgb(50\, 49\, 48)\; background-color: rgb(255\, 255\, 255)\;">Creating and executing digital marketing assets is one of the most daunting challenges faced by small businesses and entrepreneurs. Deb will talk about these challenges\, providing guidance on making your digital marketing efforts successful.</span></span></span>
LOCATION:Willows\, PA
UID:e.3407.1027
SEQUENCE:3
DTSTAMP:20260420T094851Z
URL:https://www.beavercountychamber.com/events/details/lunch-learn-deb-herman-1027
END:VEVENT

END:VCALENDAR
