BEGIN:VCALENDAR
VERSION:2.0
PRODID:-//ChamberMaster//Event Calendar 2.0//EN
METHOD:PUBLISH
X-PUBLISHED-TTL:P3D
REFRESH-INTERVAL:P3D
CALSCALE:GREGORIAN
BEGIN:VEVENT
DTSTART:20240822T210000Z
DTEND:20240822T230000Z
X-MICROSOFT-CDO-ALLDAYEVENT:FALSE
SUMMARY:Leadership Beaver County Alumni Networking
DESCRIPTION:Attention all Leadership Beaver County graduates! Join us for an evening of networking\, beer/wine\, and light appetizers. This event is strictly exclusive to Leadership Beaver County alumni.
X-ALT-DESC;FMTTYPE=text/html:Attention all Leadership Beaver County graduates! Join us for an evening of networking\, beer/wine\, and light appetizers. This event is strictly exclusive&nbsp\;to Leadership Beaver County alumni.
LOCATION:Merrick Art Gallery 1100 5th Ave New Brighton\, PA 15066
UID:e.3407.1788
SEQUENCE:3
DTSTAMP:20260422T052341Z
URL:https://www.beavercountychamber.com/events/details/leadership-beaver-county-alumni-networking-1788
END:VEVENT

END:VCALENDAR
