BEGIN:VCALENDAR
VERSION:2.0
PRODID:-//ChamberMaster//Event Calendar 2.0//EN
METHOD:PUBLISH
X-PUBLISHED-TTL:P3D
REFRESH-INTERVAL:P3D
CALSCALE:GREGORIAN
BEGIN:VEVENT
DTSTART;VALUE=DATE:20240217
DTEND;VALUE=DATE:20240218
TRANSP:TRANSPARENT
X-MICROSOFT-CDO-ALLDAYEVENT:TRUE
SUMMARY:It's a Hockey Night in Pittsburgh!
DESCRIPTION:The Beaver Valley Innovation Hub - The B-HIVE - is raffling off two tickets to a Pittsburgh Penguins hockey game plus Penguins merchandise.  You can aid our efforts to support entrepreneurs and small businesses in our community by purchasing chances in the raffle.  You can find out more about this fundraiser and purchase chances at the following website:\n\n\n\nhttps://go.rallyup.com/bhive-hockeyraffle
X-ALT-DESC;FMTTYPE=text/html:<span style="font-family:helvetica\,arial\,sans-serif\; font-size:16px">The Beaver Valley Innovation Hub - The B-HIVE - is raffling off two tickets to a Pittsburgh Penguins hockey game plus Penguins merchandise.&nbsp\; You can aid our efforts to support entrepreneurs and small businesses in our community by purchasing chances in the raffle.&nbsp\; You can find out more about this fundraiser and purchase chances at the following website:</span><br />\n<br />\n<a href="https://go.rallyup.com/bhive-hockeyraffle" rel="noopener" style="word-break: break-word\; color: rgb(60\, 97\, 170)\; font-family: helvetica\, arial\, sans-serif\; font-size: 16px\;" target="_blank">https://go.rallyup.com/bhive-hockeyraffle</a><br />\n<br />\n&nbsp\;
LOCATION:https://go.rallyup.com/bhive-hockeyraffle
UID:e.3407.1491
SEQUENCE:3
DTSTAMP:20260422T110806Z
URL:https://www.beavercountychamber.com/events/details/it-s-a-hockey-night-in-pittsburgh-02-17-2024-1491
END:VEVENT

END:VCALENDAR
