BEGIN:VCALENDAR
VERSION:2.0
PRODID:-//ChamberMaster//Event Calendar 2.0//EN
METHOD:PUBLISH
X-PUBLISHED-TTL:P3D
REFRESH-INTERVAL:P3D
CALSCALE:GREGORIAN
BEGIN:VEVENT
DTSTART:20210603T160000Z
DTEND:20210603T170000Z
X-MICROSOFT-CDO-ALLDAYEVENT:FALSE
SUMMARY:Instagram Hashtag Hacks - Beginning Hashtag Strategies for Small Businesses
DESCRIPTION:This one-hour workshop will give you a head start for creating a hashtag database to reach real followers in your target audience. Plus\, we will share our time-saving hacks for organizing and posting hashtags simply and easily. Alongside other small business owners\, we'll work together in real-time to create and organize your hashtag list   making posting a breeze the next time you sit down to plan your social media! Pre-requisite for workshop:   A Completed FREE Niche Worksheet   IG Business or Creator account The Niche Worksheet will be a necessary on-ramp to get the most out of our workshop\; providing you with a foundation to discover appropriate hashtags for connecting people to your business page. Please complete this worksheet before our interactive workshop. For more information and directions on how to convert your Instagram account to a Business or Creator account\, visit: undergroundinyourtown.com/trainings/hashtag-hacks
X-ALT-DESC;FMTTYPE=text/html:This one-hour workshop will give you a head start for creating a hashtag database to reach real followers in your target audience. Plus\, we will share our time-saving hacks for organizing and posting hashtags simply and easily. Alongside other small business owners\, we&rsquo\;ll work together in real-time to create and organize your hashtag list &mdash\; making posting a breeze the next time you sit down to plan your social media! Pre-requisite for workshop: &bull\; A Completed FREE Niche Worksheet &bull\; IG Business or Creator account The Niche Worksheet will be a necessary on-ramp to get the most out of our workshop\; providing you with a foundation to discover appropriate hashtags for connecting people to your business page. Please complete this worksheet before our interactive workshop. For more information and directions on how to convert your Instagram account to a Business or Creator account\, visit: undergroundinyourtown.com/trainings/hashtag-hacks
LOCATION:Online Video Call via Zoom (link sent after registration)
UID:e.3407.846
SEQUENCE:3
DTSTAMP:20260420T033319Z
URL:https://www.beavercountychamber.com/events/details/instagram-hashtag-hacks-beginning-hashtag-strategies-for-small-businesses-06-03-2021-846
END:VEVENT

END:VCALENDAR
