BEGIN:VCALENDAR
VERSION:2.0
PRODID:-//ChamberMaster//Event Calendar 2.0//EN
METHOD:PUBLISH
X-PUBLISHED-TTL:P3D
REFRESH-INTERVAL:P3D
CALSCALE:GREGORIAN
BEGIN:VEVENT
DTSTART:20240320T220000Z
DTEND:20240321T000000Z
X-MICROSOFT-CDO-ALLDAYEVENT:FALSE
SUMMARY:Health & Wellness Fair
DESCRIPTION:The Health and Wellness Services Fair is an engaging and informative event dedicated to promoting overall well-being and fostering a healthy lifestyle. Held in a vibrant and welcoming atmosphere\, on the Provident Charter West campus\, the fair aims to bring together a range of health professionals\, wellness experts\, and community members - all from Beaver County. Participants will have a table where they can feature their organization\, services\, and giveaway items. Attendees will have the opportunity to explore each table in a college-fair style set-up.
X-ALT-DESC;FMTTYPE=text/html:The Health and Wellness Services Fair is an engaging and informative event dedicated to promoting overall well-being and fostering a healthy lifestyle. Held in a vibrant and welcoming atmosphere\, on the Provident Charter West campus\, the fair aims to bring together a range of health professionals\, wellness experts\, and community members - all from Beaver County. Participants will have a table where they can feature their organization\, services\, and giveaway items. Attendees will have the opportunity to explore each table in a college-fair style set-up.
LOCATION:Provident Charter School West 200 Quigley Dr. Baden\, PA 15005
UID:e.3407.1518
SEQUENCE:3
DTSTAMP:20260422T093634Z
URL:https://www.beavercountychamber.com/events/details/health-wellness-fair-1518
END:VEVENT

END:VCALENDAR
