BEGIN:VCALENDAR
VERSION:2.0
PRODID:-//ChamberMaster//Event Calendar 2.0//EN
METHOD:PUBLISH
X-PUBLISHED-TTL:P3D
REFRESH-INTERVAL:P3D
CALSCALE:GREGORIAN
BEGIN:VEVENT
DTSTART:20240220T220000Z
DTEND:20240221T000000Z
X-MICROSOFT-CDO-ALLDAYEVENT:FALSE
SUMMARY:Entrepreneurs Forever Hosts Small Business Owners in Beaver County
DESCRIPTION:Join us for a free event for business owners\, marking the launch of Entrepreneurs Forever's expansion into Beaver County an important program arriving to serve entrepreneurs in the area for the first time. \n\n \n\nBorn in SW Pennsylvania\, Entrepreneurs Forever has provided long-term business support to over 1\,000 small business owners across four states. Entrepreneurs Forever\, is a Pittsburgh-based 501(c)(3) nonprofit with a mission to empower all small business owners to grow thriving businesses that sustain their families and support their communities. \n\nWhere: The Fez\n\n2312 BRODHEAD RD. HOPEWELL TWP.\, ALIQUIPPA\, PA\, 15001\n\nWhen: 5:30   7:30 PM Tuesday\, February 20\, 2024\n \n\nWho: Hosted by Entrepreneurs Forever in partnership with  Beaver County Chamber of Commerce\, City of Beaver Falls Pennsylvania\, and Beaver Falls Business District Authority.\n\nWhat: The launch event in Beaver County offers a rare chance for small business owners to join a previously unavailable program. Thanks to a grant secured by Senator Bob Casey\, we're expanding to accommodate 300 new small business owners in Western PA. With seats available for a limited time\, this event presents an opportunity to secure your spot in Entrepreneurs Forever's exclusive program. Join us for interactive activities\, discussions\, and a presentation highlighting program benefits. Open to small business owners\, partners\, and the press. Register now at www.entrepreneursforever.org/beaver.\n\nFor the registration link to this event\, please visit www.entrepreneursforever.org/beaver.\n*This event is funded [in part] through a Grant secured by Senator Bob Casey with the U.S. Small Business Administration for Entrepreneurs Forever to expand to 300 new small business owners in Western PA. Reasonable accommodations for persons with disabilities will be made if requested at least two weeks in advance. Please contact us at hello@e4ever.org.
X-ALT-DESC;FMTTYPE=text/html:<p><strong><em>Join us for a free event for business owners\, marking the launch of Entrepreneurs Forever&#39\;s expansion into Beaver County&mdash\;an important program arriving to serve entrepreneurs in the area for the first time.&nbsp\;</em></strong></p>\n\n<p>&nbsp\;</p>\n\n<p><span style="background-color:transparent\; color:rgb(0\, 0\, 0)\; font-family:calibri\,sans-serif\; font-size:11pt">Born in SW Pennsylvania\, Entrepreneurs Forever has provided long-term business support to over 1\,000 small business owners across four states. Entrepreneurs Forever\, is a Pittsburgh-based 501(c)(3) nonprofit with a mission to empower all small business owners to grow thriving businesses that sustain their families and support their communities.&nbsp\;</span></p>\n\n<p><strong>Where</strong><span style="background-color:transparent\; color:rgb(0\, 0\, 0)\; font-family:calibri\,sans-serif\; font-size:11pt">: The Fez</span><br />\n<span style="background-color:transparent\; color:rgb(0\, 0\, 0)\; font-family:calibri\,sans-serif\; font-size:11pt">2312 BRODHEAD RD. HOPEWELL TWP.\, ALIQUIPPA\, PA\, 15001</span></p>\n\n<p><strong>When</strong><span style="background-color:transparent\; color:rgb(0\, 0\, 0)\; font-family:calibri\,sans-serif\; font-size:11pt">: 5:30 &ndash\; 7:30 PM&nbsp\;</span><span style="background-color:transparent\; color:rgb(0\, 0\, 0)\; font-family:calibri\,sans-serif\; font-size:11pt">Tuesday\, February 20\, 2024</span></p>\n&nbsp\;\n\n<p><strong>Who</strong><span style="background-color:transparent\; color:rgb(0\, 0\, 0)\; font-family:calibri\,sans-serif\; font-size:11pt">: Hosted by Entrepreneurs Forever in partnership with&nbsp\; Beaver County Chamber of Commerce\, City of Beaver Falls Pennsylvania\, and Beaver Falls Business District Authority.</span></p>\n\n<p><strong>What</strong><span style="background-color:transparent\; color:rgb(0\, 0\, 0)\; font-family:calibri\,sans-serif\; font-size:11pt">: The launch event in Beaver County offers a rare chance for small business owners to join a previously unavailable program. Thanks to a grant secured by Senator Bob Casey\, we&#39\;re expanding to accommodate 300 new small business owners in Western PA. With seats available for a limited time\, this event presents an opportunity to secure your spot in Entrepreneurs Forever&#39\;s exclusive program. Join us for interactive activities\, discussions\, and a presentation highlighting program benefits. Open to small business owners\, partners\, and the press. Register now at www.entrepreneursforever.org/beaver.</span></p>\n\n<p><span style="background-color:transparent\; color:rgb(0\, 0\, 0)\; font-family:calibri\,sans-serif\; font-size:11pt">For the registration link to this event\, please visit </span><a href="http://www.entrepreneursforever.org/beaver" style="text-decoration-line: none\;"><span style="background-color:transparent\; color:rgb(17\, 85\, 204)\; font-family:calibri\,sans-serif\; font-size:11pt">www.entrepreneursforever.org/beaver</span></a><span style="background-color:transparent\; color:rgb(0\, 0\, 0)\; font-family:calibri\,sans-serif\; font-size:11pt">.</span></p>\n<span style="font-family:trade gothic lt\,sans-serif\; font-size:14px">*This event is funded [in part] through a Grant secured by Senator Bob Casey with the U.S. Small Business Administration for Entrepreneurs Forever to expand to 300 new small business owners in Western PA. Reasonable accommodations for persons with disabilities will be made if requested at least two weeks in advance. Please contact us at&nbsp\;</span><a class="green-link" href="mailto:hello@e4ever.org" style="box-sizing: border-box\; color: var(--yellow-green)\; font-family: &quot\;Trade gothic lt&quot\;\, sans-serif\; font-size: 14px\;" target="_blank">hello@e4ever.org</a><span style="font-family:trade gothic lt\,sans-serif\; font-size:14px">.</span><br />\n&nbsp\;
LOCATION:The Fez 2312 BRODHEAD RD. HOPEWELL TWP.\, ALIQUIPPA\, PA\, 15001
UID:e.3407.1480
SEQUENCE:3
DTSTAMP:20260422T110134Z
URL:https://www.beavercountychamber.com/events/details/entrepreneurs-forever-hosts-small-business-owners-in-beaver-county-1480
END:VEVENT

END:VCALENDAR
