BEGIN:VCALENDAR
VERSION:2.0
PRODID:-//ChamberMaster//Event Calendar 2.0//EN
METHOD:PUBLISH
X-PUBLISHED-TTL:P3D
REFRESH-INTERVAL:P3D
CALSCALE:GREGORIAN
BEGIN:VEVENT
DTSTART:20221109T160000Z
DTEND:20221109T180000Z
X-MICROSOFT-CDO-ALLDAYEVENT:FALSE
SUMMARY:Duquesne University SBDC - Workshop
DESCRIPTION:
X-ALT-DESC;FMTTYPE=text/html:
LOCATION:
UID:e.3407.993
SEQUENCE:3
DTSTAMP:20260421T212617Z
URL:https://www.beavercountychamber.com/events/details/duquesne-university-sbdc-workshop-993
END:VEVENT

END:VCALENDAR
