BEGIN:VCALENDAR
VERSION:2.0
PRODID:-//ChamberMaster//Event Calendar 2.0//EN
METHOD:PUBLISH
X-PUBLISHED-TTL:P3D
REFRESH-INTERVAL:P3D
CALSCALE:GREGORIAN
BEGIN:VEVENT
DTSTART:20250320T220000Z
DTEND:20250321T010000Z
X-MICROSOFT-CDO-ALLDAYEVENT:FALSE
SUMMARY:Diane's Purse Party
DESCRIPTION:First day of Spring...of course you need a new purse!\n\nPlease join us for a fun evening with all your "Gal" friends\, co-workers\, family and purse enthusiasts. I'm so very happy to say that all proceeds benefit "Roxsan's Dream Fund\," an organization dedicated to helping children who are battling cancer or life-threatening heart condition.\n\n If you wish to donate a purse to this very special event\, please contact Diane Dornenburg directly.
X-ALT-DESC;FMTTYPE=text/html:<p>&nbsp\;First day of Spring...of course you need a new purse!</p>\n\n<p>Please join us for a fun evening with all your &ldquo\;Gal&rdquo\; friends\, co-workers\, family and purse enthusiasts. I&rsquo\;m so very happy to say that all proceeds benefit &ldquo\;Roxsan&rsquo\;s Dream Fund\,&rdquo\; an organization dedicated to helping children who are battling cancer or life-threatening heart condition.</p>\n\n<p>&nbsp\;If you wish to donate a purse to this very special event\, please contact Diane Dornenburg directly.</p>\n
LOCATION:Willows 1830 Beaver Midland Road Industry\, PA 15052
UID:e.3407.1879
SEQUENCE:3
DTSTAMP:20260420T125455Z
URL:https://www.beavercountychamber.com/events/details/diane-s-purse-party-1879
END:VEVENT

END:VCALENDAR
