BEGIN:VCALENDAR
VERSION:2.0
PRODID:-//ChamberMaster//Event Calendar 2.0//EN
METHOD:PUBLISH
X-PUBLISHED-TTL:P3D
REFRESH-INTERVAL:P3D
CALSCALE:GREGORIAN
BEGIN:VEVENT
DTSTART;VALUE=DATE:20260101
DTEND;VALUE=DATE:20260102
TRANSP:TRANSPARENT
X-MICROSOFT-CDO-ALLDAYEVENT:TRUE
SUMMARY:Chamber Office Closed - New Year's Day
DESCRIPTION:We're incredibly grateful for your continued support and partnership.\n\nPlease note that our office will be closed in observance of New Year's Day. We will resume regular business hours on Friday\, January 2nd.\n\nWishing you a joyful and safe start to the new year!
X-ALT-DESC;FMTTYPE=text/html:<p>We&rsquo\;re incredibly grateful for your continued support and partnership.</p>\n\n<p>Please note that our office will be <strong>closed in observance of New Year&#39\;s Day</strong>. We will resume regular business hours on <strong>Friday\, January 2nd</strong>.</p>\n\n<p>Wishing you a joyful and safe start to the new year!</p>\n
LOCATION:
UID:e.3407.1952
SEQUENCE:3
DTSTAMP:20260420T143825Z
URL:https://www.beavercountychamber.com/events/details/chamber-office-closed-new-year-s-day-1952
END:VEVENT

END:VCALENDAR
