BEGIN:VCALENDAR
VERSION:2.0
PRODID:-//ChamberMaster//Event Calendar 2.0//EN
METHOD:PUBLISH
X-PUBLISHED-TTL:P3D
REFRESH-INTERVAL:P3D
CALSCALE:GREGORIAN
BEGIN:VEVENT
DTSTART;VALUE=DATE:20251224
DTEND;VALUE=DATE:20251226
TRANSP:TRANSPARENT
X-MICROSOFT-CDO-ALLDAYEVENT:TRUE
SUMMARY:Chamber Office Closed - Christmas
DESCRIPTION:We're incredibly grateful for your support and would like to inform you that our office will be closed in observance of Christmas. We will resume regular business hours on Friday\, December 26th.
X-ALT-DESC;FMTTYPE=text/html:We&rsquo\;re incredibly grateful for your support and would like to inform you that our office will be closed in observance of Christmas. We will resume regular business hours on Friday\, December 26th.&nbsp\;&nbsp\;
LOCATION:
UID:e.3407.1892
SEQUENCE:3
DTSTAMP:20260420T093045Z
URL:https://www.beavercountychamber.com/events/details/chamber-office-closed-christmas-1892
END:VEVENT

END:VCALENDAR
