BEGIN:VCALENDAR
VERSION:2.0
PRODID:-//ChamberMaster//Event Calendar 2.0//EN
METHOD:PUBLISH
X-PUBLISHED-TTL:P3D
REFRESH-INTERVAL:P3D
CALSCALE:GREGORIAN
BEGIN:VEVENT
DTSTART:20220601T140000Z
DTEND:20220601T190000Z
X-MICROSOFT-CDO-ALLDAYEVENT:FALSE
SUMMARY:Blood Drive!
DESCRIPTION:Please join us for a blood drive at W.D. Wright Contracting\, Inc on Wednesday\, June 1\, 2022\, from 10:00 a.m. to 3:00 p.m. at 1200 Sharon Road\, Beaver. Vitalant will have their mobile unit in the parking lot. Email Erin at eshetler@wdwright.com to schedule an appointment.
X-ALT-DESC;FMTTYPE=text/html:Please join us for a blood drive at W.D. Wright Contracting\, Inc on Wednesday\, June 1\, 2022\, from 10:00 a.m. to 3:00 p.m. at 1200 Sharon Road\, Beaver. Vitalant will have their mobile unit in the parking lot. Email Erin at eshetler@wdwright.com to schedule an appointment.
LOCATION:1200 Sharon Road\, Beaver.
UID:e.3407.1045
SEQUENCE:3
DTSTAMP:20260419T234237Z
URL:https://www.beavercountychamber.com/events/details/blood-drive-1045
END:VEVENT

END:VCALENDAR
