BEGIN:VCALENDAR
VERSION:2.0
PRODID:-//ChamberMaster//Event Calendar 2.0//EN
METHOD:PUBLISH
X-PUBLISHED-TTL:P3D
REFRESH-INTERVAL:P3D
CALSCALE:GREGORIAN
BEGIN:VEVENT
DTSTART:20250624T130000Z
DTEND:20250624T190000Z
X-MICROSOFT-CDO-ALLDAYEVENT:FALSE
SUMMARY:BizBurgh 2025: First Annual Business Growth Conference
DESCRIPTION:Empowering Growth\, Inspiring Change! Join BizBurgh 2025: First Annual Business Growth Conference to empower entrepreneurs\, business leaders\, and professionals.\n\nJoin us for an inspiring and informative Business Growth Conference designed to empower entrepreneurs\, business leaders\, and professionals to achieve unprecedented success in today's competitive landscape. This dynamic event brings together industry experts\, thought leaders\, and successful entrepreneurs to share invaluable insights\, strategies\, and practical tips that will propel your business to new heights.\n\nExpert Keynote Speakers: Immerse yourself in the wisdom of renowned business leaders and industry experts who have successfully navigated the challenges of business growth. Gain insights into their strategies\, learn from their experiences\, and discover the secrets behind their achievements.\n\nNetworking Opportunities: Connect with like-minded professionals\, entrepreneurs\, and potential collaborators. Our networking sessions offer a platform to build valuable relationships\, exchange ideas\, and explore potential partnerships that can contribute to your business expansion.\n\nSuccess Stories Panel: Hear firsthand from successful entrepreneurs who have overcome obstacles and achieved remarkable growth. Learn from their triumphs and challenges as they share the strategies and tactics that propelled their businesses to success.\n\nMarket Trends and Insights: Gain a competitive edge by staying informed about the latest market trends and industry insights. Our conference will feature expert discussions on emerging opportunities\, challenges\, and strategies to stay ahead in today's dynamic business landscape.\n\n	9:00   9:30 - Registration & Continental breakfast\n	9:30   10:30 - Morning keynote speaker: Loyd Johnson\, CIO\, First Commonwealth Bank\n	10:30   11:00 - Networking\n	11:00   11:30 - Panel discussions involving SBDC clients\n	\n		Nick Mancini Hartner\, Mancini's Bakery\n		Scott Stone\, Think3Technologies\n		Nicole Lerda\, Maxx Cole\n	\n	\n	11:30   12:00 - Panel discussions involving SBDC clients\n	\n		Tracy Dunlap\, Cookie Couture Bakery\n		Jordan Mayer\, Mayday Cybersecurity\n		John Bromage\, Eden's Market: A Gluten Free Emporium\n	\n	\n	12:00   1:30 - Lunch with keynote speaker: Tom Weikel\, Senior Loan Officer\, Live Oak Bank\n	1:30   3:00 - Round Table discussions focusing in areas of Media and Marketing\, Finance and Funding\, Planning for Growth\, SBA/SBDC resources available\, and Global opportunities\n\nDon't miss this opportunity to transform your business trajectory and position yourself for unprecedented success. Whether you are a startup looking to scale or an established business aiming for the next level\, the Business Growth Conference is your gateway to excellence. Secure your spot now and accelerate your journey towards a thriving and prosperous future!\n\n\n\nWatch our video about the upcoming conference here - Business Growth Conference
X-ALT-DESC;FMTTYPE=text/html:<span style="color: rgb(0\, 0\, 0)\; font-family: Roboto\, Arial\, Helvetica\, sans-serif\; font-size: 20px\; background-color: rgb(242\, 242\, 242)\;">Empowering Growth\, Inspiring Change! Join BizBurgh 2025: First Annual Business Growth Conference to empower entrepreneurs\, business leaders\, and professionals.</span><br />\n<span style="box-sizing:border-box\;position:relative\;"><span style="font-size:12pt\;">Join us for an inspiring and informative Business Growth Conference designed to empower entrepreneurs\, business leaders\, and professionals to achieve unprecedented success in today&#39\;s competitive landscape. This dynamic event brings together industry experts\, thought leaders\, and successful entrepreneurs to share invaluable insights\, strategies\, and practical tips that will propel your business to new heights.</span></span><br />\n<strong style="box-sizing:border-box\;font-weight:bold\;position:relative\;"><span style="box-sizing:border-box\;position:relative\;"><span style="font-family:calibri\,sans-serif\;"><span style="font-size:12pt\;">Expert Keynote Speakers:</span></span></span></strong><span style="box-sizing:border-box\;position:relative\;"><span style="font-size:12pt\;">&nbsp\;Immerse yourself in the wisdom of renowned business leaders and industry experts who have successfully navigated the challenges of business growth. Gain insights into their strategies\, learn from their experiences\, and discover the secrets behind their achievements.</span></span><br />\n<strong style="box-sizing:border-box\;font-weight:bold\;position:relative\;"><span style="box-sizing:border-box\;position:relative\;"><span style="font-family:calibri\,sans-serif\;"><span style="font-size:12pt\;">Networking Opportunities:</span></span></span></strong><span style="box-sizing:border-box\;position:relative\;"><span style="font-size:12pt\;">&nbsp\;Connect with like-minded professionals\, entrepreneurs\, and potential collaborators. Our networking sessions offer a platform to build valuable relationships\, exchange ideas\, and explore potential partnerships that can contribute to your business expansion.</span></span><br />\n<strong style="box-sizing:border-box\;font-weight:bold\;position:relative\;"><span style="box-sizing:border-box\;position:relative\;"><span style="font-family:calibri\,sans-serif\;"><span style="font-size:12pt\;">Success Stories Panel:</span></span></span></strong><span style="box-sizing:border-box\;position:relative\;"><span style="font-size:12pt\;">&nbsp\;Hear firsthand from successful entrepreneurs who have overcome obstacles and achieved remarkable growth. Learn from their triumphs and challenges as they share the strategies and tactics that propelled their businesses to success.</span></span><br />\n<strong style="box-sizing:border-box\;font-weight:bold\;position:relative\;"><span style="box-sizing:border-box\;position:relative\;"><span style="font-family:calibri\,sans-serif\;"><span style="font-size:12pt\;">Market Trends and Insights:</span></span></span></strong><span style="box-sizing:border-box\;position:relative\;"><span style="font-size:12pt\;">&nbsp\;Gain a competitive edge by staying informed about the latest market trends and industry insights. Our conference will feature expert discussions on emerging opportunities\, challenges\, and strategies to stay ahead in today&#39\;s dynamic business landscape.</span></span>\n<ul>\n	<li style="box-sizing:border-box\;position:relative\;padding-left:1.4rem\;background:url(&quot\;../img/list-marker.png&quot\;) 0px 0.5rem no-repeat\;"><span style="box-sizing:border-box\;position:relative\;"><span style="font-size:12pt\;">9:00 &ndash\; 9:30 - Registration &amp\; Continental breakfast</span></span></li>\n	<li style="box-sizing:border-box\;position:relative\;padding-left:1.4rem\;background:url(&quot\;../img/list-marker.png&quot\;) 0px 0.5rem no-repeat\;"><span style="box-sizing:border-box\;position:relative\;"><span style="font-size:12pt\;">9:30 &ndash\; 10:30 - Morning keynote speaker:&nbsp\;Loyd Johnson\, CIO\, First Commonwealth Bank</span></span></li>\n	<li style="box-sizing:border-box\;position:relative\;padding-left:1.4rem\;background:url(&quot\;../img/list-marker.png&quot\;) 0px 0.5rem no-repeat\;"><span style="box-sizing:border-box\;position:relative\;"><span style="font-size:12pt\;">10:30 &ndash\; 11:00 - Networking</span></span></li>\n	<li style="box-sizing:border-box\;position:relative\;padding-left:1.4rem\;background:url(&quot\;../img/list-marker.png&quot\;) 0px 0.5rem no-repeat\;"><span style="box-sizing:border-box\;position:relative\;"><span style="font-size:12pt\;">11:00 &ndash\; 11:30 - Panel discussions involving SBDC clients</span></span>\n	<ul>\n		<li style="box-sizing:border-box\;position:relative\;padding-left:1.4rem\;background:url(&quot\;../img/list-marker.png&quot\;) 0px 0.5rem no-repeat\;"><span style="box-sizing:border-box\;position:relative\;"><span style="font-size:12pt\;">Nick Mancini Hartner\,&nbsp\;Mancini&rsquo\;s Bakery</span></span></li>\n		<li style="box-sizing:border-box\;position:relative\;padding-left:1.4rem\;background:url(&quot\;../img/list-marker.png&quot\;) 0px 0.5rem no-repeat\;"><span style="box-sizing:border-box\;position:relative\;"><span style="font-size:12pt\;">Scott Stone\,&nbsp\;Think3Technologies</span></span></li>\n		<li style="box-sizing:border-box\;position:relative\;padding-left:1.4rem\;background:url(&quot\;../img/list-marker.png&quot\;) 0px 0.5rem no-repeat\;"><span style="box-sizing:border-box\;position:relative\;"><span style="font-size:12pt\;">Nicole Lerda\,&nbsp\;Maxx Cole</span></span></li>\n	</ul>\n	</li>\n	<li style="box-sizing:border-box\;position:relative\;padding-left:1.4rem\;background:url(&quot\;../img/list-marker.png&quot\;) 0px 0.5rem no-repeat\;"><span style="box-sizing:border-box\;position:relative\;"><span style="font-size:12pt\;">11:30 &ndash\; 12:00 - Panel discussions involving SBDC clients</span></span>\n	<ul>\n		<li style="box-sizing:border-box\;position:relative\;padding-left:1.4rem\;background:url(&quot\;../img/list-marker.png&quot\;) 0px 0.5rem no-repeat\;"><span style="box-sizing:border-box\;position:relative\;"><span style="font-size:12pt\;">Tracy Dunlap\,&nbsp\;Cookie Couture Bakery</span></span></li>\n		<li style="box-sizing:border-box\;position:relative\;padding-left:1.4rem\;background:url(&quot\;../img/list-marker.png&quot\;) 0px 0.5rem no-repeat\;"><span style="box-sizing:border-box\;position:relative\;"><span style="font-size:12pt\;">Jordan Mayer\,&nbsp\;Mayday Cybersecurity</span></span></li>\n		<li style="box-sizing:border-box\;position:relative\;padding-left:1.4rem\;background:url(&quot\;../img/list-marker.png&quot\;) 0px 0.5rem no-repeat\;"><span style="box-sizing:border-box\;position:relative\;"><span style="font-size:12pt\;">John Bromage\,&nbsp\;Eden&rsquo\;s Market: A Gluten Free Emporium</span></span></li>\n	</ul>\n	</li>\n	<li style="box-sizing:border-box\;position:relative\;padding-left:1.4rem\;background:url(&quot\;../img/list-marker.png&quot\;) 0px 0.5rem no-repeat\;"><span style="box-sizing:border-box\;position:relative\;"><span style="font-size:12pt\;">12:00 &ndash\; 1:30 - Lunch with keynote speaker: Tom Weikel\, Senior Loan Officer\, Live Oak Bank</span></span></li>\n	<li style="box-sizing:border-box\;position:relative\;padding-left:1.4rem\;background:url(&quot\;../img/list-marker.png&quot\;) 0px 0.5rem no-repeat\;"><span style="box-sizing:border-box\;position:relative\;"><span style="font-size:12pt\;">1:30 &ndash\; 3:00 - Round Table discussions focusing in areas of Media and Marketing\, Finance and Funding\, Planning for Growth\, SBA/SBDC resources available\, and Global opportunities</span></span></li>\n</ul>\n<span style="box-sizing:border-box\;position:relative\;"><span style="font-size:12pt\;">Don&#39\;t miss this opportunity to transform your business trajectory and position yourself for unprecedented success. Whether you are a startup looking to scale or an established business aiming for the next level\, the Business Growth Conference is your gateway to excellence. Secure your spot now and accelerate your journey towards a thriving and prosperous future!</span></span><br />\n<br style="box-sizing:border-box\;position:relative\;" />\n<span style="box-sizing:border-box\;position:relative\;box-sizing:border-box\;position:relative\;"><span style="font-family:calibre\;"><span style="font-size:12pt\;"><span style="font-family:calibre\;"><span style="font-size:12pt\;">Watch our video about the upcoming conference&nbsp\;here -&nbsp\;</span></span></span></span></span><a href="https://www.youtube.com/watch?v=66riKvurTII" style="box-sizing:border-box\;color:rgb(0\, 0\, 0)\;position:relative\;transition:color 0.2s\, background-color 0.2s\;" target="_blank"><span style="box-sizing:border-box\;position:relative\;"><span style="color:#0000ff\;">Business Growth Conference</span></span></a>
LOCATION:Duquesne University Power Center Ballroom 1015 Forbes Ave Pittsburgh\, PA 15219
UID:e.3407.1927
SEQUENCE:3
DTSTAMP:20260420T110449Z
URL:https://www.beavercountychamber.com/events/details/bizburgh-2025-first-annual-business-growth-conference-1927
END:VEVENT

END:VCALENDAR
