BEGIN:VCALENDAR
VERSION:2.0
PRODID:-//ChamberMaster//Event Calendar 2.0//EN
METHOD:PUBLISH
X-PUBLISHED-TTL:P3D
REFRESH-INTERVAL:P3D
CALSCALE:GREGORIAN
BEGIN:VEVENT
DTSTART:20250606T120000Z
DTEND:20250606T130000Z
X-MICROSOFT-CDO-ALLDAYEVENT:FALSE
SUMMARY:B-Club at Provident Charter School West
DESCRIPTION:Join us for a morning of networking! B-Club will meet on the 1st and 3rd Friday of the month. Practice your 30-second commercials & bring your business cards.  \n\n\n\nRegistration not required.
X-ALT-DESC;FMTTYPE=text/html:Join us for a morning of networking! B-Club will meet on the 1st and 3rd Friday of the month. Practice your 30-second commercials &amp\; bring your business cards.&nbsp\;&nbsp\;<br />\n<br />\n<em><strong>Registration not required.&nbsp\; &nbsp\; &nbsp\;&nbsp\;</strong></em>
LOCATION:Provident Charter School West 200 Quigley Dr Baden\, PA 15005 Laura Partridge Community Outreach Coordinator W 412.709.5160
UID:e.3407.1923
SEQUENCE:3
DTSTAMP:20260420T110332Z
URL:https://www.beavercountychamber.com/events/details/b-club-at-provident-charter-school-west-1923
END:VEVENT

END:VCALENDAR
