BEGIN:VCALENDAR
VERSION:2.0
PRODID:-//ChamberMaster//Event Calendar 2.0//EN
METHOD:PUBLISH
X-PUBLISHED-TTL:P3D
REFRESH-INTERVAL:P3D
CALSCALE:GREGORIAN
BEGIN:VEVENT
DTSTART:20250404T120000Z
DTEND:20250404T130000Z
X-MICROSOFT-CDO-ALLDAYEVENT:FALSE
SUMMARY:B-Club at Chamber Office
DESCRIPTION:Join us for a morning of networking! B-Club will meet on the 1st and 3rd Friday of the month. Practice your 30-second commercials & bring your business cards.
X-ALT-DESC;FMTTYPE=text/html:Join us for a morning of networking! B-Club will meet on the 1st and 3rd Friday of the month. Practice your 30-second commercials &amp\; bring your business cards.&nbsp\;&nbsp\;&nbsp\;&nbsp\;&nbsp\;&nbsp\;&nbsp\;&nbsp\;
LOCATION:Beaver County Chamber of Commerce Lower-Level Conference Room 1000 3rd Street Beaver\, PA 15009
UID:e.3407.1896
SEQUENCE:3
DTSTAMP:20260419T185712Z
URL:https://www.beavercountychamber.com/events/details/b-club-at-chamber-office-1896
END:VEVENT

END:VCALENDAR
