BEGIN:VCALENDAR
VERSION:2.0
PRODID:-//ChamberMaster//Event Calendar 2.0//EN
METHOD:PUBLISH
X-PUBLISHED-TTL:P3D
REFRESH-INTERVAL:P3D
CALSCALE:GREGORIAN
BEGIN:VEVENT
DTSTART:20240503T120000Z
DTEND:20240503T130000Z
X-MICROSOFT-CDO-ALLDAYEVENT:FALSE
SUMMARY:B-Club at Beaver Meadows
DESCRIPTION:Join us for a morning of networking! B-Club\, formerly Breakfast Club\, will meet on the 1st and 3rd Friday of the month. Practice your 30-second commercials & bring your business cards.
X-ALT-DESC;FMTTYPE=text/html:Join us for a morning of networking! B-Club\, formerly Breakfast Club\, will meet on the 1st and 3rd Friday of the month. Practice your 30-second commercials &amp\; bring your business cards.&nbsp\;&nbsp\;&nbsp\;&nbsp\;&nbsp\;&nbsp\;&nbsp\;&nbsp\;
LOCATION:St. Barnabas Beaver Meadows 5130 Tuscarawas Road Beaver\, PA 15009
UID:e.3407.1753
SEQUENCE:3
DTSTAMP:20260422T093552Z
URL:https://www.beavercountychamber.com/events/details/b-club-at-beaver-meadows-1753
END:VEVENT

END:VCALENDAR
