BEGIN:VCALENDAR
VERSION:2.0
PRODID:-//ChamberMaster//Event Calendar 2.0//EN
METHOD:PUBLISH
X-PUBLISHED-TTL:P3D
REFRESH-INTERVAL:P3D
CALSCALE:GREGORIAN
BEGIN:VEVENT
DTSTART:20250510T233000Z
DTEND:20250511T020000Z
X-MICROSOFT-CDO-ALLDAYEVENT:FALSE
SUMMARY:Anastasia The Musical
DESCRIPTION:An epic adventure of HOME\, LOVE\, AND FAMILY! A brave young woman in the 1920s sets out to discover the mystery of her past. Pursued by a ruthless Soviet officer determined to silence her\, Anya enlists the aid of a dashing con man and a lovable ex-aristocrat. Together\, they embark on an epic adventure to help her find home\, love\, and family. From the Tony Award-winning creative team of Lynn Ahrens and Pittsburgh's own Stephen Flaherty\, this stage musical boasts a gorgeous score featuring songs such as "Once Upon a December" and the show-stopping "Journey to the Past." Anastasia is a dazzling musical spectacular about discovering who you are and defining who you're meant to be!
X-ALT-DESC;FMTTYPE=text/html:An epic adventure of HOME\, LOVE\, AND FAMILY! A brave young woman in the 1920s sets out to discover the mystery of her past. Pursued by a ruthless Soviet officer determined to silence her\, Anya enlists the aid of a dashing con man and a lovable ex-aristocrat. Together\, they embark on an epic adventure to help her find home\, love\, and family. From the Tony Award-winning creative team of Lynn Ahrens and Pittsburgh&rsquo\;s own Stephen Flaherty\, this stage musical boasts a gorgeous score featuring songs such as &ldquo\;Once Upon a December&rdquo\; and the show-stopping &ldquo\;Journey to the Past.&rdquo\; Anastasia is a dazzling musical spectacular about discovering who you are and defining who you&rsquo\;re meant to be!
LOCATION:Lincoln Park Performing Arts Center
UID:e.3407.1899
SEQUENCE:3
DTSTAMP:20260420T093504Z
URL:https://www.beavercountychamber.com/events/details/anastasia-the-musical-05-10-2025-1899
END:VEVENT

END:VCALENDAR
