BEGIN:VCALENDAR
VERSION:2.0
PRODID:-//ChamberMaster//Event Calendar 2.0//EN
METHOD:PUBLISH
X-PUBLISHED-TTL:P3D
REFRESH-INTERVAL:P3D
CALSCALE:GREGORIAN
BEGIN:VEVENT
DTSTART:20251210T230000Z
DTEND:20251211T010000Z
X-MICROSOFT-CDO-ALLDAYEVENT:FALSE
SUMMARY:2025 Holiday Party
DESCRIPTION:
X-ALT-DESC;FMTTYPE=text/html:
LOCATION:Our last Chamber event of the year filled with food and holiday cheer! Willows of PA 1830 Midland Beaver Rd Industry\, PA 15052
UID:e.3407.1884
SEQUENCE:3
DTSTAMP:20260420T093213Z
URL:https://www.beavercountychamber.com/events/details/2025-holiday-party-1884
END:VEVENT

END:VCALENDAR
