BEGIN:VCALENDAR
VERSION:2.0
PRODID:-//ChamberMaster//Event Calendar 2.0//EN
METHOD:PUBLISH
X-PUBLISHED-TTL:P3D
REFRESH-INTERVAL:P3D
CALSCALE:GREGORIAN
BEGIN:VEVENT
DTSTART:20261015T210000Z
DTEND:20261016T000000Z
X-MICROSOFT-CDO-ALLDAYEVENT:FALSE
SUMMARY:2026 Monte Carlo Night
DESCRIPTION:Step into an evening of high-stakes fun at the Beaver County Chamber of Commerce's Monte Carlo Night on Thursday\, October 15 from 5:00 PM - 8:00 PM at The Club at Shadow Lakes. Try your luck at classic casino-style games\, enjoy great food and drinks\, and mingle with friends and colleagues in a lively atmosphere. With the opportunity to win a variety of exciting raffle prizes for those who choose to participate in gaming\, there?s truly something for everyone. Whether you?re a seasoned player or just in it for the fun\, it?s an evening you won?t want to miss!\n\n \n\nIf you?re interested in donating an item or raffle basket\, please contact Josie at jmccoy@bcchamber.com or 724-775-3944.\n\n\n\nSponsorship Opportunities\n\nWe offer several sponsorship options\, all of which include complimentary tickets to Monte Carlo Night! Pick the package that feels right for you and join the fun!\n\n\n\nDiamond: $4\,000\n\n\n	8 event tickets\n	16 Complimentary Bar Beverages\n	2 Hours of Casino Style Gaming with Starter Gaming Money\n	Food Stations Throughout Evening\n	Dedicated casino game table branded with your company signage\n	Premium logo placement on all event marketing\n	3-5 minute welcome to the audience \n	Company-provided banner displayed at event \n	2 full-page ads inside the event program \n	Front cover of March Newsletter \n	Attendee list sent after event\n\n\nHeart: $2\,000\n\n\n	6 event tickets\n	12 Complimentary Bar Beverages\n	2 Hours of Casino Style Gaming with Starter Gaming Money\n	Food Stations Throughout Evening\n	Prominent logo placement on all event marketing\n	1 full-page ad inside the program\n\n\nClub: $1\,000\n\n\n	4 event tickets\n	8 Complimentary Bar Beverages\n	2 Hours of Casino Style Gaming with Starter Gaming Money\n	Food Stations Throughout Evening\n	Company logo included in all event marketing \n	Half page ad inside the program\n\n\nSpade: $500\n\n\n	2 event tickets\n	4 Complimentary Bar Beverages\n	2 Hours of Casino Style Gaming with Starter Gaming Money\n	Food Stations Throughout Evening\n	Company logo included in all event marketing\n	Quarter page ad inside the program\n\n\nJoker: $250\n\n\n	1 event ticket\n	2 Complimentary Bar Beverages\n	2 Hours of Casino Style Gaming with Starter Gaming Money\n	Food Stations Throughout Evening\n	Company name included in all event marketing
X-ALT-DESC;FMTTYPE=text/html:<p class="x_MsoNormal" data-olk-copy-source="MessageBody" style="margin: 0in\; font-size: 12pt\; font-family: Aptos\, sans-serif\; color: rgb(36\, 36\, 36)\;">Step into an evening of high-stakes fun at the&nbsp\;<b>Beaver County Chamber of Commerce&#39\;s Monte Carlo Night</b>&nbsp\;on&nbsp\;<b>Thursday\, October&nbsp\;15&nbsp\;from 5:00 PM - 8:00 PM</b>&nbsp\;at The Club at Shadow Lakes. Try your luck at classic casino-style games\, enjoy great food and drinks\, and mingle with friends and colleagues in a lively atmosphere. With the opportunity to win a variety of exciting raffle prizes for those who choose to participate in gaming\, there?s truly something for everyone. Whether you?re a seasoned player or just in it for the fun\, it?s an evening you won?t want to miss!</p>\n\n<p aria-hidden="true" class="x_MsoNormal" style="margin: 0in\; font-size: 12pt\; font-family: Aptos\, sans-serif\; color: rgb(36\, 36\, 36)\;">&nbsp\;</p>\n\n<p class="x_MsoNormal" style="margin: 0in\; font-size: 12pt\; font-family: Aptos\, sans-serif\; color: rgb(36\, 36\, 36)\;">If you?re interested in donating an item or raffle basket\, please contact Josie at <strong><a href="mailto:JMcCoy@bcchamber.com">jmccoy@bcchamber.com</a></strong> or 724-775-3944.<br />\n<br />\n<span style="font-size:18px\;"><span style="color:#B22222\;"><strong>Sponsorship Opportunities</strong></span></span></p>\n\n<p class="x_MsoNormal" style="margin: 0in\; font-size: 12pt\; font-family: Aptos\, sans-serif\; color: rgb(36\, 36\, 36)\;">We offer several sponsorship options\, all of which include complimentary tickets to Monte Carlo Night! Pick the package that feels right for you and join the fun!<br />\n<br />\n<span style="font-size:16px\;"><span style="font-family:tahoma\;"><span style="color:#000000\;"><span class="a_GcMg font-feature-liga-off font-feature-clig-off font-feature-calt-off text-decoration-none text-strikethrough-none" style="caret-color: rgb(255\, 222\, 89)\; --Ys-XuQ: none\; font-weight: 700\; font-kerning: none\;">Diamond:&nbsp\;$4\,000</span></span></span></span></p>\n\n<ul>\n	<li><span style="font-size:16px\;"><span style="font-family:tahoma\;"><span style="color:#000000\;"><span class="a_GcMg font-feature-liga-off font-feature-clig-off font-feature-calt-off text-decoration-none text-strikethrough-none" style="caret-color: rgb(255\, 255\, 255)\; --Ys-XuQ: none\; font-kerning: none\;">8 event tickets</span></span></span></span></li>\n	<li><span style="font-size: 16px\;"><span style="font-family: tahoma\;">16 Complimentary Bar Beverages</span></span></li>\n	<li><span style="font-size: 16px\;"><span style="font-family: tahoma\;">2 Hours of Casino Style Gaming with Starter&nbsp\;Gaming Money</span></span></li>\n	<li><span style="font-size: 16px\;"><span style="font-family: tahoma\;">Food Stations Throughout Evening</span></span></li>\n	<li><span style="font-size:16px\;"><span style="font-family:tahoma\;"><span style="color:#000000\;"><span class="a_GcMg font-feature-liga-off font-feature-clig-off font-feature-calt-off text-decoration-none text-strikethrough-none" style="caret-color: rgb(255\, 255\, 255)\; --Ys-XuQ: none\; font-kerning: none\;">Dedicated casino game table branded with your company signage</span></span></span></span></li>\n	<li><span style="font-size:16px\;"><span style="font-family:tahoma\;"><span style="color:#000000\;"><span class="a_GcMg font-feature-liga-off font-feature-clig-off font-feature-calt-off text-decoration-none text-strikethrough-none" style="caret-color: rgb(255\, 255\, 255)\; --Ys-XuQ: none\; font-kerning: none\;">Premium logo placement on all event marketing</span></span></span></span></li>\n	<li><span style="font-size:16px\;"><span style="font-family:tahoma\;"><span style="color:#000000\;"><span class="a_GcMg font-feature-liga-off font-feature-clig-off font-feature-calt-off text-decoration-none text-strikethrough-none" style="caret-color: rgb(255\, 255\, 255)\; --Ys-XuQ: none\; font-kerning: none\;">3-5 minute welcome to the audience</span><span class="a_GcMg font-feature-liga-off font-feature-clig-off font-feature-calt-off text-decoration-none text-strikethrough-none white-space-prewrap" style="caret-color: rgb(255\, 255\, 255)\; --Ys-XuQ: none\; font-kerning: none\;"> </span></span></span></span></li>\n	<li><span style="font-size:16px\;"><span style="font-family:tahoma\;"><span style="color:#000000\;"><span class="a_GcMg font-feature-liga-off font-feature-clig-off font-feature-calt-off text-decoration-none text-strikethrough-none" style="caret-color: rgb(255\, 255\, 255)\; --Ys-XuQ: none\; font-kerning: none\;">Company-provided banner displayed at event</span><span class="a_GcMg font-feature-liga-off font-feature-clig-off font-feature-calt-off text-decoration-none text-strikethrough-none white-space-prewrap" style="caret-color: rgb(255\, 255\, 255)\; --Ys-XuQ: none\; font-kerning: none\;"> </span></span></span></span></li>\n	<li><span style="font-size:16px\;"><span style="font-family:tahoma\;"><span style="color:#000000\;"><span class="a_GcMg font-feature-liga-off font-feature-clig-off font-feature-calt-off text-decoration-none text-strikethrough-none" style="caret-color: rgb(255\, 255\, 255)\; --Ys-XuQ: none\; font-kerning: none\;">2 full-page ads inside the event program</span><span class="a_GcMg font-feature-liga-off font-feature-clig-off font-feature-calt-off text-decoration-none text-strikethrough-none white-space-prewrap" style="caret-color: rgb(255\, 255\, 255)\; --Ys-XuQ: none\; font-kerning: none\;"> </span></span></span></span></li>\n	<li><span style="font-size:16px\;"><span style="font-family:tahoma\;"><span style="color:#000000\;"><span class="a_GcMg font-feature-liga-off font-feature-clig-off font-feature-calt-off text-decoration-none text-strikethrough-none" style="caret-color: rgb(255\, 255\, 255)\; --Ys-XuQ: none\; font-kerning: none\;">Front cover of March Newsletter</span><span class="a_GcMg font-feature-liga-off font-feature-clig-off font-feature-calt-off text-decoration-none text-strikethrough-none white-space-prewrap" style="caret-color: rgb(255\, 255\, 255)\; --Ys-XuQ: none\; font-kerning: none\;"> </span></span></span></span></li>\n	<li><span style="font-size:16px\;"><span style="font-family:tahoma\;"><span style="color:#000000\;"><span class="a_GcMg font-feature-liga-off font-feature-clig-off font-feature-calt-off text-decoration-none text-strikethrough-none" style="caret-color: rgb(255\, 255\, 255)\; --Ys-XuQ: none\; font-kerning: none\;">Attendee list sent after event</span></span></span></span></li>\n</ul>\n\n<p class="cvGsUA direction-ltr align-start para-style-body" style="color: rgba(255\,255\,255\,var(--O42jJQ\,1))\; caret-color: rgb(255\, 255\, 255)\; --8sD0Kg: none\; font-family: YAFdJjbTu24_1\, _fb_\, auto\; --cyV3ZQ: 17.2842px\; --gJPlXQ: 1.4\; letter-spacing: -0.02em\; --s8NbEA: p\; line-height: 24px\;"><span style="font-size:16px\;"><span style="font-family:tahoma\;"><span style="color:#000000\;"><span class="a_GcMg font-feature-liga-off font-feature-clig-off font-feature-calt-off text-decoration-none text-strikethrough-none" style="caret-color: rgb(255\, 222\, 89)\; --Ys-XuQ: none\; font-weight: 700\; font-kerning: none\;">Heart: $2\,000</span></span></span></span></p>\n\n<ul>\n	<li><span style="font-size:16px\;"><span style="font-family:tahoma\;"><span style="color:#000000\;"><span class="a_GcMg font-feature-liga-off font-feature-clig-off font-feature-calt-off text-decoration-none text-strikethrough-none" style="caret-color: rgb(255\, 255\, 255)\; --Ys-XuQ: none\; font-kerning: none\;">6 event tickets</span></span></span></span></li>\n	<li><span style="font-size: 16px\;"><span style="font-family: tahoma\;">12 Complimentary Bar Beverages</span></span></li>\n	<li><span style="font-size: 16px\;"><span style="font-family: tahoma\;">2 Hours of Casino Style Gaming with Starter&nbsp\;Gaming Money</span></span></li>\n	<li><span style="font-size: 16px\;"><span style="font-family: tahoma\;">Food Stations Throughout Evening</span></span></li>\n	<li><span style="font-size:16px\;"><span style="font-family:tahoma\;"><span style="color:#000000\;"><span class="a_GcMg font-feature-liga-off font-feature-clig-off font-feature-calt-off text-decoration-none text-strikethrough-none" style="caret-color: rgb(255\, 255\, 255)\; --Ys-XuQ: none\; font-kerning: none\;">Prominent logo placement on all event marketing</span></span></span></span></li>\n	<li><span style="font-size:16px\;"><span style="font-family:tahoma\;"><span style="color:#000000\;"><span class="a_GcMg font-feature-liga-off font-feature-clig-off font-feature-calt-off text-decoration-none text-strikethrough-none" style="caret-color: rgb(255\, 255\, 255)\; --Ys-XuQ: none\; font-kerning: none\;">1 full-page ad inside the program</span></span></span></span></li>\n</ul>\n\n<p class="cvGsUA direction-ltr align-start para-style-body" style="color: rgba(255\,255\,255\,var(--O42jJQ\,1))\; caret-color: rgb(255\, 255\, 255)\; --8sD0Kg: none\; font-family: YAFdJjbTu24_1\, _fb_\, auto\; --cyV3ZQ: 17.2842px\; --gJPlXQ: 1.4\; letter-spacing: -0.02em\; --s8NbEA: p\; line-height: 24px\;"><span style="font-size:16px\;"><span style="font-family:tahoma\;"><span style="color:#000000\;"><span class="a_GcMg font-feature-liga-off font-feature-clig-off font-feature-calt-off text-decoration-none text-strikethrough-none" style="caret-color: rgb(255\, 222\, 89)\; --Ys-XuQ: none\; font-weight: 700\; font-kerning: none\;">Club: $1\,000</span></span></span></span></p>\n\n<ul>\n	<li><span style="font-size:16px\;"><span style="font-family:tahoma\;"><span style="color:#000000\;"><span class="a_GcMg font-feature-liga-off font-feature-clig-off font-feature-calt-off text-decoration-none text-strikethrough-none" style="caret-color: rgb(255\, 255\, 255)\; --Ys-XuQ: none\; font-kerning: none\;">4 event tickets</span></span></span></span></li>\n	<li><span style="font-size: 16px\;"><span style="font-family: tahoma\;">8 Complimentary Bar Beverages</span></span></li>\n	<li><span style="font-size: 16px\;"><span style="font-family: tahoma\;">2 Hours of Casino Style Gaming with Starter&nbsp\;Gaming Money</span></span></li>\n	<li><span style="font-size: 16px\;"><span style="font-family: tahoma\;">Food Stations Throughout Evening</span></span></li>\n	<li><span style="font-size:16px\;"><span style="font-family:tahoma\;"><span style="color:#000000\;"><span class="a_GcMg font-feature-liga-off font-feature-clig-off font-feature-calt-off text-decoration-none text-strikethrough-none" style="caret-color: rgb(255\, 255\, 255)\; --Ys-XuQ: none\; font-kerning: none\;">Company logo included in all event marketing</span><span class="a_GcMg font-feature-liga-off font-feature-clig-off font-feature-calt-off text-decoration-none text-strikethrough-none white-space-prewrap" style="caret-color: rgb(255\, 255\, 255)\; --Ys-XuQ: none\; font-kerning: none\;"> </span></span></span></span></li>\n	<li><span style="font-size:16px\;"><span style="font-family:tahoma\;"><span style="color:#000000\;"><span class="a_GcMg font-feature-liga-off font-feature-clig-off font-feature-calt-off text-decoration-none text-strikethrough-none" style="caret-color: rgb(255\, 255\, 255)\; --Ys-XuQ: none\; font-kerning: none\;">Half page ad inside the program</span></span></span></span></li>\n</ul>\n\n<p class="cvGsUA direction-ltr align-start para-style-body" style="color: rgba(255\,255\,255\,var(--O42jJQ\,1))\; caret-color: rgb(255\, 255\, 255)\; --8sD0Kg: none\; font-family: YAFdJjbTu24_1\, _fb_\, auto\; --cyV3ZQ: 17.2842px\; --gJPlXQ: 1.4\; letter-spacing: -0.02em\; --s8NbEA: p\; line-height: 24px\;"><span style="font-size:16px\;"><span style="font-family:tahoma\;"><span style="color:#000000\;"><span class="a_GcMg font-feature-liga-off font-feature-clig-off font-feature-calt-off text-decoration-none text-strikethrough-none" style="caret-color: rgb(255\, 222\, 89)\; --Ys-XuQ: none\; font-weight: 700\; font-kerning: none\;">Spade: $500</span></span></span></span></p>\n\n<ul>\n	<li><span style="font-size:16px\;"><span style="font-family:tahoma\;"><span style="color:#000000\;"><span class="a_GcMg font-feature-liga-off font-feature-clig-off font-feature-calt-off text-decoration-none text-strikethrough-none" style="caret-color: rgb(255\, 255\, 255)\; --Ys-XuQ: none\; font-kerning: none\;">2 event tickets</span></span></span></span></li>\n	<li><span style="font-size: 16px\;"><span style="font-family: tahoma\;">4 Complimentary Bar Beverages</span></span></li>\n	<li><span style="font-size: 16px\;"><span style="font-family: tahoma\;">2 Hours of Casino Style Gaming with Starter&nbsp\;Gaming Money</span></span></li>\n	<li><span style="font-size: 16px\;"><span style="font-family: tahoma\;">Food Stations Throughout Evening</span></span></li>\n	<li><span style="font-size:16px\;"><span style="font-family:tahoma\;"><span style="color:#000000\;"><span class="a_GcMg font-feature-liga-off font-feature-clig-off font-feature-calt-off text-decoration-none text-strikethrough-none" style="caret-color: rgb(255\, 255\, 255)\; --Ys-XuQ: none\; font-kerning: none\;">Company logo included in all event marketing</span></span></span></span></li>\n	<li><span style="font-size:16px\;"><span style="font-family:tahoma\;"><span style="color:#000000\;"><span class="a_GcMg font-feature-liga-off font-feature-clig-off font-feature-calt-off text-decoration-none text-strikethrough-none" style="caret-color: rgb(255\, 255\, 255)\; --Ys-XuQ: none\; font-kerning: none\;">Quarter page ad inside the program</span></span></span></span></li>\n</ul>\n\n<p class="cvGsUA direction-ltr align-start para-style-body" style="color: rgba(255\,255\,255\,var(--O42jJQ\,1))\; caret-color: rgb(255\, 255\, 255)\; --8sD0Kg: none\; font-family: YAFdJjbTu24_1\, _fb_\, auto\; --cyV3ZQ: 17.2842px\; --gJPlXQ: 1.4\; letter-spacing: -0.02em\; --s8NbEA: p\; line-height: 24px\;"><span style="font-size:16px\;"><span style="font-family:tahoma\;"><span style="color:#000000\;"><span class="a_GcMg font-feature-liga-off font-feature-clig-off font-feature-calt-off text-decoration-none text-strikethrough-none" style="caret-color: rgb(255\, 222\, 89)\; --Ys-XuQ: none\; font-weight: 700\; font-kerning: none\;">Joker: $250</span></span></span></span></p>\n\n<ul>\n	<li><span style="font-size:16px\;"><span style="font-family:tahoma\;"><span style="color:#000000\;"><span class="a_GcMg font-feature-liga-off font-feature-clig-off font-feature-calt-off text-decoration-none text-strikethrough-none" style="caret-color: rgb(255\, 255\, 255)\; --Ys-XuQ: none\; font-kerning: none\;">1 event ticket</span></span></span></span></li>\n	<li><span style="font-size: 16px\;"><span style="font-family: tahoma\;">2 Complimentary Bar Beverages</span></span></li>\n	<li><span style="font-size: 16px\;"><span style="font-family: tahoma\;">2 Hours of Casino Style Gaming with Starter&nbsp\;Gaming Money</span></span></li>\n	<li><span style="font-size: 16px\;"><span style="font-family: tahoma\;">Food Stations Throughout Evening</span></span></li>\n	<li><span style="font-size:16px\;"><span style="font-family:tahoma\;"><span style="color:#000000\;"><span class="a_GcMg font-feature-liga-off font-feature-clig-off font-feature-calt-off text-decoration-none text-strikethrough-none" style="caret-color: rgb(255\, 255\, 255)\; --Ys-XuQ: none\; font-kerning: none\;">Company name included in all event marketing</span></span></span></span></li>\n</ul>\n
LOCATION:The Club at Shadow Lakes 2000 Beaver Lakes Boulevard Aliquippa\, PA 15001
UID:e.3407.2006
SEQUENCE:3
DTSTAMP:20260421T084323Z
URL:https://www.beavercountychamber.com/events/details/2026-monte-carlo-night-2006
END:VEVENT

END:VCALENDAR
