BEGIN:VCALENDAR
VERSION:2.0
PRODID:-//ChamberMaster//Event Calendar 2.0//EN
METHOD:PUBLISH
X-PUBLISHED-TTL:P3D
REFRESH-INTERVAL:P3D
CALSCALE:GREGORIAN
BEGIN:VEVENT
DTSTART:20251105T220000Z
DTEND:20251106T010000Z
X-MICROSOFT-CDO-ALLDAYEVENT:FALSE
SUMMARY:2025 Business of the Year Awards Dinner
DESCRIPTION:Join us for our Annual Meeting & Business of the Year Awards Dinner as we celebrate the past year's accomplishments and celebrate our award winners.\n\n	Large Business of the Year - VISTRA\n	Small Business of the Year - THREE CORD TRUE WEALTH MANAGEMENT\n	Energy & Advanced Manufacturing Partnership Award - DUQUESNE LIGHT COMPANY\n	Leadership Beaver County Award - LISA HENRY\, ESQ. \n	Shon D. Owens\, Sr. Diversity Award - THE CENTER\n	Lynell Scaff CO-Citizen of the Year - MARK & NATHAN KOPSACK\n	Chamber Ambassador of the Year - RENEE CSOMAN\n	Nonprofit of the Year - INSPIRED HEARTS & HANDS\n	Entrepreneur of the Year - BRYAN WRIGHT\n\n Interested in purchasing a sponsorship? \n\nClick Here to email Josie McCoy\n\n\n\nPresenting - $3\,000\n\n\n	1 reserved table at the event (8 tickets) \n	Company logo included in all event marketing \n	Welcome crowd to event and 3-5 minutes to talk about your business \n	Front cover of November newsletter \n	Attendee list sent after event \n	Opportunity to have a display table at event \n	Opportunity to provide marketing materials at event\n	Company provided banner displayed at event\n\nPlatinum - $2\,000\n\n\n	6 tickets to the event\n	Opportunity to provide marketing materials at event\n	Company logo included in all event marketing\n	Company logo featured at the bar\n\n\nGold - $1\,000\n\n\n	4 tickets to the event\n	Company name or logo included in all event marketing\n	Company logo featured at the appetizer station\n\n\nSilver - $550\n\n\n	2 tickets to the event\n	Company logo included in all event marketing\n\n\nBronze - $250\n\n\n	1 ticket to the event\n	Company name included in all event marketing
X-ALT-DESC;FMTTYPE=text/html:<div><span style="font-size:16px\;"><span style="font-family:tahoma\;">Join us for our Annual Meeting &amp\; Business of the Year Awards Dinner as we celebrate the past year&#39\;s accomplishments and celebrate our award winners.</span></span>\n<ul>\n	<li><span style="font-size:16px\;"><span style="font-family:tahoma\;">Large Business of the Year - <span style="color:#800000\;"><strong>VISTRA</strong></span></span></span></li>\n	<li><span style="color:#000000\;"><span style="font-size:16px\;"><span style="font-family:tahoma\;">Small Business of the Year - </span></span></span><span style="color:#800000\;"><span style="font-size:16px\;"><span style="font-family:tahoma\;"><strong>THREE CORD TRUE WEALTH MANAGEMENT</strong></span></span></span></li>\n	<li><span style="font-size:16px\;"><span style="font-family:tahoma\;">Energy &amp\; Advanced Manufacturing Partnership Award - <span style="color:#800000\;"><strong>DUQUESNE LIGHT COMPANY</strong></span></span></span></li>\n	<li><span style="font-size:16px\;"><span style="font-family:tahoma\;">Leadership Beaver County Award - <span style="color:#800000\;"><strong>LISA HENRY\, ESQ.</strong>&nbsp\;</span></span></span></li>\n	<li><span style="font-size:16px\;"><span style="font-family:tahoma\;">Shon D. Owens\, Sr. Diversity Award - <span style="color:#800000\;"><strong>THE CENTER</strong></span></span></span></li>\n	<li><span style="font-size:16px\;"><span style="font-family:tahoma\;">Lynell Scaff <strong>CO-</strong>Citizen of the Year - <span style="color:#800000\;"><strong>MARK &amp\;&nbsp\;NATHAN KOPSACK</strong></span></span></span></li>\n	<li><span style="font-size:16px\;"><span style="font-family:tahoma\;">Chamber Ambassador of the Year - <span style="color:#800000\;"><strong>RENEE CSOMAN</strong></span></span></span></li>\n	<li><span style="font-size:16px\;"><span style="font-family:tahoma\;">Nonprofit of the Year - <span style="color:#800000\;"><strong>INSPIRED HEARTS &amp\; HANDS</strong></span></span></span></li>\n	<li><span style="font-size:16px\;"><span style="font-family:tahoma\;">Entrepreneur of the Year - <span style="color:#800000\;"><strong>BRYAN WRIGHT</strong></span></span></span></li>\n</ul>\n<span style="font-size:16px\;"><span style="font-family:tahoma\;"> <strong>Interested in purchasing a sponsorship?&nbsp\;</strong><br />\n<a href="mailto:jmccoy@bcchamber.com?subject=2025%20BOYA">Click Here</a>&nbsp\;to email <strong>Josie McCoy</strong><br />\n<br />\n<strong>Presenting - $3\,000</strong></span></span>\n\n<ul>\n	<li><span style="font-size:16px\;"><span style="font-family:tahoma\;">1 reserved table at the event (8 tickets) </span></span></li>\n	<li><span style="font-size:16px\;"><span style="font-family:tahoma\;">Company logo included in all event marketing </span></span></li>\n	<li><span style="font-size:16px\;"><span style="font-family:tahoma\;">Welcome crowd to event and 3-5 minutes to talk about your business </span></span></li>\n	<li><span style="font-size:16px\;"><span style="font-family:tahoma\;">Front cover of November newsletter </span></span></li>\n	<li><span style="font-size:16px\;"><span style="font-family:tahoma\;">Attendee list sent after event </span></span></li>\n	<li><span style="font-size:16px\;"><span style="font-family:tahoma\;">Opportunity to have a display table at event </span></span></li>\n	<li><span style="font-size:16px\;"><span style="font-family:tahoma\;">Opportunity to provide marketing materials at event</span></span></li>\n	<li><span style="font-size:16px\;"><span style="font-family:tahoma\;">Company provided banner displayed at event</span></span></li>\n</ul>\n<span style="font-size:16px\;"><span style="font-family:tahoma\;"><strong>Platinum - $2\,000</strong></span></span></div>\n\n<ul>\n	<li><span style="font-size:16px\;"><span style="font-family:tahoma\;">6 tickets to the event</span></span></li>\n	<li><span style="font-size:16px\;"><span style="font-family:tahoma\;">Opportunity to provide marketing materials at event</span></span></li>\n	<li><span style="font-size:16px\;"><span style="font-family:tahoma\;">Company logo included in all event marketing</span></span></li>\n	<li><span style="font-size:16px\;"><span style="font-family:tahoma\;">Company logo featured at the bar</span></span></li>\n</ul>\n\n<div><span style="font-size:16px\;"><span style="font-family:tahoma\;"><strong>Gold - $1\,000</strong></span></span></div>\n\n<ul>\n	<li><span style="font-size:16px\;"><span style="font-family:tahoma\;">4 tickets to the event</span></span></li>\n	<li><span style="font-size:16px\;"><span style="font-family:tahoma\;">Company name or logo included in all event marketing</span></span></li>\n	<li><span style="font-size:16px\;"><span style="font-family:tahoma\;">Company logo featured at the appetizer station</span></span></li>\n</ul>\n\n<div><span style="font-size:16px\;"><span style="font-family:tahoma\;"><strong>Silver - $550</strong></span></span></div>\n\n<ul>\n	<li><span style="font-size:16px\;"><span style="font-family:tahoma\;">2 tickets to the event</span></span></li>\n	<li><span style="font-size:16px\;"><span style="font-family:tahoma\;">Company logo included in all event marketing</span></span></li>\n</ul>\n\n<div><span style="font-size:16px\;"><span style="font-family:tahoma\;"><strong>Bronze - $250</strong></span></span></div>\n\n<ul>\n	<li><span style="font-size:16px\;"><span style="font-family:tahoma\;">1 ticket&nbsp\;to the event</span></span></li>\n	<li><span style="font-size:16px\;"><span style="font-family:tahoma\;">Company name included in all event marketing</span></span></li>\n</ul>\n
LOCATION:Shakespeare's Restaurant & Pub at Olde Stonewall Golf Club 1495 Mercer Road Ellwood City\, PA 16117 Appetizers Italian Bruschetta Veggie Spring Rolls The Royal Feast Salad Station Mixed green salad\, Caesar Salad\, Italian Antipasti Salad\, and Fruit Salad. House made dressings with rolls and butter. Pasta Station Assorted Pastas\, Penne\, Linguine with roasted veggies and chicken and shrimp. Sauces: Tomato Basil\, Alfredo\, Scampi\, Rosa Vodka Sauce with Parmesan Cheese. Carving Station Prime Rib + Turkey with turkey gravy on the side Dessert Station Chef's choice Dinner includes Coffee\, Tea\, Iced Tea\, and Lemonade.
UID:e.3407.1882
SEQUENCE:3
DTSTAMP:20260420T155100Z
URL:https://www.beavercountychamber.com/events/details/2025-business-of-the-year-awards-dinner-1882
END:VEVENT

END:VCALENDAR
