BEGIN:VCALENDAR
VERSION:2.0
PRODID:-//ChamberMaster//Event Calendar 2.0//EN
METHOD:PUBLISH
X-PUBLISHED-TTL:P3D
REFRESH-INTERVAL:P3D
CALSCALE:GREGORIAN
BEGIN:VEVENT
DTSTART:20230913T210000Z
DTEND:20230913T230000Z
X-MICROSOFT-CDO-ALLDAYEVENT:FALSE
SUMMARY:2023 September After Hours
DESCRIPTION:Enjoy an evening at one of Beaver County's newest breweries!\n\nAfter Hours is a social networking event for colleagues to connect off the clock. Complimentary refreshments will be provided as you introduce yourself to other members and make new business contacts. This is open to members and non-members.\n\n	Networking\n	Drink ticket and appetizers\n	Brewery Tour\n	Raffle drawing\n	Door prize from Monaca Brewing Co.\n\n\nThank you to our Presenting Sponsor!\n\nClick here to learn more about Express Employment Professionals - Pittsburgh West
X-ALT-DESC;FMTTYPE=text/html:<span style="color:#006699\;"><strong>Enjoy an evening at one of Beaver County&#39\;s newest breweries!</strong></span><br />\nAfter Hours is a&nbsp\;social networking event for&nbsp\;colleagues&nbsp\;to connect off the clock.&nbsp\;Complimentary refreshments will be provided as you introduce yourself to other members and make new business contacts. This is open to members and non-members.\n<ul>\n	<li>Networking</li>\n	<li>Drink ticket&nbsp\;and appetizers</li>\n	<li>Brewery Tour</li>\n	<li>Raffle drawing</li>\n	<li>Door prize from Monaca Brewing Co.</li>\n</ul>\n\n<p><span style="color:#006699\;"><strong><em>Thank you to our Presenting Sponsor!</em></strong></span><br />\nClick <a href="https://www.expresspros.com/wpittsburghpa/">here</a> to learn more about Express Employment Professionals - Pittsburgh West</p>\n
LOCATION:Monaca Brewing Company 1030 Pennsylvania Ave.\, Monaca\, PA 15061 Click here for the Menu & Tap List
UID:e.3407.1376
SEQUENCE:3
DTSTAMP:20260420T092918Z
URL:https://www.beavercountychamber.com/events/details/2023-september-after-hours-1376
END:VEVENT

END:VCALENDAR
