BEGIN:VCALENDAR
VERSION:2.0
PRODID:-//ChamberMaster//Event Calendar 2.0//EN
METHOD:PUBLISH
X-PUBLISHED-TTL:P3D
REFRESH-INTERVAL:P3D
CALSCALE:GREGORIAN
BEGIN:VEVENT
DTSTART:20190731T210000Z
DTEND:20190801T000000Z
X-MICROSOFT-CDO-ALLDAYEVENT:FALSE
SUMMARY:2019 Legislative Reception Cruise
DESCRIPTION:Our 2019 Legislative Reception will host guests on the Gateway Clipper as we cruise down the Ohio River and talk about the development of our river towns. Guests will have the opportunity to hear from a variety of speakers\, including our elected officials. Full dinner provided. Please note that we will depart promptly at 5:30 pm. Refunds will not be granted for those who miss departure.\n\n\n\nSponsorship Opportunities
X-ALT-DESC;FMTTYPE=text/html:Our 2019 Legislative Reception will host guests on the Gateway Clipper as we cruise down the Ohio River and talk about the development of our river towns. Guests will have the opportunity to hear from a variety of speakers\, including our elected officials. Full dinner provided. <strong>Please note that we will depart promptly at 5:30 pm. Refunds will not be granted for those who miss departure.</strong><br />\n<br />\n<a href="https://www.beavercountychamber.com/CMSPages/GetPage?pageTitle=Legislative%20Reception&amp\;pageName=legislative-reception&amp\;menuId=5165&amp\;parentNavigationId=141659" target="_blank">Sponsorship Opportunities</a>
LOCATION:We will depart from the Rochester Dock: 210 Water Street\, Rochester PA 15074
UID:e.3407.71
SEQUENCE:3
DTSTAMP:20260423T160259Z
URL:https://www.beavercountychamber.com/events/details/2019-legislative-reception-cruise-71
END:VEVENT

END:VCALENDAR
